BEGIN:VCALENDAR
VERSION:2.0
PRODID:-//wp-events-plugin.com//7.2.3.1//EN
TZID:Europe/Berlin
X-WR-TIMEZONE:Europe/Berlin
BEGIN:VEVENT
UID:6996@rauszeit-termine.org
DTSTART:20201203T160000Z
DTEND:20201203T180000Z
DTSTAMP:20201104T085638Z
URL:https://rauszeit-termine.org/events/gender-und-diskriminierungserfahru
 ngen-folgen-fuer-die-psychische-gesundheit/
SUMMARY:Gender und Diskriminierungserfahrungen: Folgen für die (psychische
 ) Gesundheit
DESCRIPTION:Die medizinische Vorstellung und Festlegung von Zweigeschlechtl
 ichkeit im Sinne von Frauen und Männern stimmt nur teilweise mit den wiss
 enschaftlichen Erkenntnissen der Geschlechtsbiologie überein. Auch besteh
 t die Realität einer Geschlechtsidentität jenseits der zweigeschlechtlic
 hen Kategorien Männlichkeit und Weiblichkeit.\n\nIn diesem Beitrag werden
  die biologischen\, medizinischen und psychischen Dimensionen des Geschlec
 hts aus historischer Perspektive\, sowie die gesundheitlichen Folgen der z
 weigeschlechtlichen Praxis nach aktueller Studienlage präsentiert. Die In
 terdependenz medizinischer Behandlungsstrategien von sozialen Machtverhäl
 tnissen wird analysiert und diskutiert.\n\nTeilnehmende werden eingeladen\
 , ihr Bewusstsein für die Variation des Geschlechts zu schärfen und Hand
 lungsmöglichkeiten gegen Alltagspraktiken der Diskriminierung mit zu disk
 utieren.\n\n 	Referent*in: Dr. med. Amma Yeboah (Fachärztin für Psychiat
 rie &amp\; Psychotherapie\, Psychodynamische Supervisorin &amp\; Coach (DG
 Sv)\, Trainerin für Empowerment &amp\; Critical Whiteness (Phoenix e.V.))
 \n 	Anmeldung unter: kontakt [at] mosaikgesundheit [dot] de\n 	18:00 - 20
 :00 Uhr\n 	Eintritt frei\, gefördert aus Mitteln des Landes Niedersachsen
 .\n 	Eine Veranstaltung von MOSAIK Gesundheit\n
CATEGORIES:LGBT*I*Q,Vortrag
END:VEVENT
END:VCALENDAR