BEGIN:VCALENDAR
VERSION:2.0
PRODID:-//wp-events-plugin.com//7.2.3.1//EN
TZID:Europe/Berlin
X-WR-TIMEZONE:Europe/Berlin
BEGIN:VEVENT
UID:156502@rauszeit-termine.org
DTSTART;TZID=Europe/Berlin:20260419T110000
DTEND;TZID=Europe/Berlin:20260419T110000
DTSTAMP:20260418T185022Z
URL:https://rauszeit-termine.org/events/gemeinsame-zuganreise-zur-lorenz-g
 edenkdemo-in-oldenburg/
SUMMARY:Gemeinsame Zuganreise zur Lorenz-Gedenkdemo in Oldenburg
DESCRIPTION:Gemeinsame Anreise aus Hannover zur Demo nach Oldenburg.\n\nLet
 ztes Jahr wurde Lorenz in der Nacht zu Ostersonntag in Oldenburg von der P
 olizei erschossen. Seit einem Jahr gibt es keine Aufklärung und keine Kon
 sequenzen – ein Zustand\, den wir nicht hinnehmen können.\nLasst uns ge
 meinsam gegen rassistische und tödliche Polizeigewalt auf die Straße geh
 en. Lasst uns laut bleiben\, erinnern und Widerstand leisten.\n\nKommt mit
  nach Oldenburg und tragt eure Wut auf die Straße!\nWenn ihr nicht allein
 e zur Demo gehen möchtet\, schreibt uns gerne eine Nachricht – wir begl
 eiten euch &#x2b50\;&#xfe0f\;\n\n(Quelle: Blackunity Hannover)\n\n
ATTACH;FMTTYPE=image/jpeg:https://rauszeit-termine.org/wp-content/uploads/
 2026/04/lorenz1.jpg
CATEGORIES:Aktion,Demo
LOCATION:Hauptbahnhof Hannover\, Ernst-August-Platz 1\, Hannover\, Niedersa
 chsen\, 30159\, Deutschland
X-APPLE-STRUCTURED-LOCATION;VALUE=URI;X-ADDRESS=Ernst-August-Platz 1\, Hann
 over\, Niedersachsen\, 30159\, Deutschland;X-APPLE-RADIUS=100;X-TITLE=Haup
 tbahnhof Hannover:geo:0,0
END:VEVENT
BEGIN:VTIMEZONE
TZID:Europe/Berlin
X-LIC-LOCATION:Europe/Berlin
BEGIN:DAYLIGHT
DTSTART:20260329T030000
TZOFFSETFROM:+0100
TZOFFSETTO:+0200
TZNAME:CEST
END:DAYLIGHT
END:VTIMEZONE
END:VCALENDAR