BEGIN:VCALENDAR
VERSION:2.0
PRODID:-//wp-events-plugin.com//7.2.3.1//EN
TZID:Europe/Berlin
X-WR-TIMEZONE:Europe/Berlin
BEGIN:VEVENT
UID:147229@rauszeit-termine.org
DTSTART;TZID=Europe/Berlin:20250426T083000
DTEND;TZID=Europe/Berlin:20250426T083000
DTSTAMP:20250414T194545Z
URL:https://rauszeit-termine.org/events/gemeinsame-busanreise-nach-cuxhave
 n/
SUMMARY:Gemeinsame Busanreise nach Cuxhaven
DESCRIPTION:Von Studis gegen Rechts Hannover:\n\nAm 26.04 will in Cuxhaven 
 erneut eine Mischung aus Neonazis\, Schwurbler*innen und AfDler*innen ihre
  rechte Hetze verbreiten. ‼️\nDer Veranstalter Danny H. hatte am 22.03
  in Hannover 600-800 Rechte auf die Straße geholt. Der linke Gegenprotest
  fiel spärlich aus und Blockadeversuche wurden sofort unterbunden. Von de
 r Polizei geschützt\, trugen die Rechten ihre menschenverachtende Gesinnu
 ng ungehindert zur Schau.\n\nDas darf nicht wieder passieren und besonders
  Cuxhaven braucht unseren Support. Cuxhaven ist bunt - Bündnis für Respe
 kt und Menschenwürde ruft unter dem Motto #keineNordseefürNazis zum Gege
 nprotest auf\, um den Nazis den Raum zu nehmen und sie am Marschieren zu h
 indern. \n\nDie Rechten haben leider bewiesen\, dass sie überregional mob
 ilisieren können. Antifaschismus bleibt Handarbeit\, bleibt solidarisch. 
 Deswegen unterstützen wir die  Menschen in Cuxhaven.\nGemeinsam reisen wi
 r um 8:30 von Hannover aus mit dem Bus an. In Bremen machen wir ein Zwisch
 enhalt für Menschen\, die zusteigen wollen. \nTickets findet ihr online 
 über: https://fridaysforfuture-hannover.de/produkt/bus-ticket-hannover-cu
 xhaven-bus-1/ \noder im Barverkauf bei der Küfa in der Korn.\n Die Ticket
 s gibt es für \nErmäßigt: 15€\nStandart: 20€ oder\nSoliticket: 30
 €\n\nWir sehen uns in Cuxhaven\nAlerta! ✊✊✊✊✊
ATTACH;FMTTYPE=image/jpeg:https://rauszeit-termine.org/wp-content/uploads/
 2025/04/bus-cuxhaven.webp
CATEGORIES:Aktion
LOCATION:Platz der Menschenrechte\, Platz der Menschenrechte (ehemals Tramm
 platz)\, Hannover\, Deutschland
X-APPLE-STRUCTURED-LOCATION;VALUE=URI;X-ADDRESS=Platz der Menschenrechte (e
 hemals Trammplatz)\, Hannover\, Deutschland;X-APPLE-RADIUS=100;X-TITLE=Pla
 tz der Menschenrechte:geo:0,0
END:VEVENT
BEGIN:VTIMEZONE
TZID:Europe/Berlin
X-LIC-LOCATION:Europe/Berlin
BEGIN:DAYLIGHT
DTSTART:20250330T030000
TZOFFSETFROM:+0100
TZOFFSETTO:+0200
TZNAME:CEST
END:DAYLIGHT
END:VTIMEZONE
END:VCALENDAR