BEGIN:VCALENDAR
VERSION:2.0
PRODID:-//wp-events-plugin.com//7.2.3.1//EN
TZID:Europe/Berlin
X-WR-TIMEZONE:Europe/Berlin
BEGIN:VEVENT
UID:7226@rauszeit-termine.org
DTSTART;TZID=Europe/Berlin:20210511T153000
DTEND;TZID=Europe/Berlin:20210511T153000
DTSTAMP:20210508T130451Z
URL:https://rauszeit-termine.org/events/gegen-jede-abschiebung/
SUMMARY:Gegen JEDE Abschiebung!
DESCRIPTION:-- DEMO 11.05.21\, 15.30 Uhr Hannover\, vor dem Niedersächsisc
 hen Landtag\, Hannah-Arendt-Platz --\n\nTrotz Corona-Pandemie und Warnunge
 n zahlreicher Flüchtlingsräte schiebt Niedersachsen (wie auch die andere
 n Bundesländer) weiterhin gnadenlos ab\, als wären Abschiebungen „syst
 emrelevant“ und zur Aufrechterhalten der gesellschaftlichen Ordnung unab
 dingbar.\n\nSo soll auch am 18.05. eine Sammelabschiebung nach Pakistan vo
 m Flughafen Hannover durchgeführt werden.\n\nWährend also auf der einen 
 Seite Menschen dazu aufgefordert werden zuhause zu bleiben\, schiebt Deuts
 chland Schutzsuchende seit Sommer letzten Jahres wieder vermehrt ab.\n\nSo
  fanden im letzten Jahr 627 Abschiebungen aus Niedersachsen statt. Die Lan
 desregierung beteiligt sich zudem regelmäßig an bundesweiten Sammelabsch
 iebungen\; selbst in Länder\, in denen die Zustände ganz offensichtlich 
 katastrophal sind und durch die Pandemie noch erheblich verschärft werden
 . Insgesamt fanden seit November monatlich um die 15 Sammelabschiebungen a
 us Deutschland statt! Dabei scheint egal zu sein\, wie lebensbedrohlich di
 e Situation für die abgeschobenen Menschen in ihren sogenannten "Herkunft
 sländern" ist.\n\nSo hat Niedersachsen zuletzt am 9. März eine Sammelabs
 chiebung nach Afghanistan\, einem Land\, das laut Global Peace Index das u
 nsicherstes der Welt ist\, logistisch unterstützt und den Flughafen Hanno
 ver-Langenhagen dafür zur Verfügung gestellt.\n\nWir stellen uns der mö
 rderischen Abschiebepraxis entgegen. Wir lassen nicht zu\, dass in Hannove
 r weiterhin heimlich ohne jede Öffentlichkeit abgeschoben wird. Lasst uns
  das am Dienstag um 15:30 vor dem Landtag und später dem Innenministerium
  den Verantwortlichen klar machen. Wir wollen komplette Bewegungsfreiheit 
 und ein Bleiberecht für alle\, gleiche Rechte und Gerechtigkeit: keine Gr
 enzen\, keine Abschiebungen!\n\n
CATEGORIES:Demo
LOCATION:Niedersächsischen Landtag\, Hannah-Arendt-Platz\, Hannover\, Deut
 schland
X-APPLE-STRUCTURED-LOCATION;VALUE=URI;X-ADDRESS=Hannah-Arendt-Platz\, Hanno
 ver\, Deutschland;X-APPLE-RADIUS=100;X-TITLE=Niedersächsischen Landtag:ge
 o:0,0
END:VEVENT
BEGIN:VTIMEZONE
TZID:Europe/Berlin
X-LIC-LOCATION:Europe/Berlin
BEGIN:DAYLIGHT
DTSTART:20210328T030000
TZOFFSETFROM:+0100
TZOFFSETTO:+0200
TZNAME:CEST
END:DAYLIGHT
END:VTIMEZONE
END:VCALENDAR