BEGIN:VCALENDAR
VERSION:2.0
PRODID:-//wp-events-plugin.com//7.2.3.1//EN
TZID:Europe/Berlin
X-WR-TIMEZONE:Europe/Berlin
BEGIN:VEVENT
UID:156501@rauszeit-termine.org
DTSTART;TZID=Europe/Berlin:20260419T120000
DTEND;TZID=Europe/Berlin:20260419T120000
DTSTAMP:20260418T184717Z
URL:https://rauszeit-termine.org/events/gegen-das-vergessen-kundgebung-an-
 der-kz-gedenkstaette-ahlem/
SUMMARY:Gegen das Vergessen - Kundgebung an der KZ-Gedenkstätte Ahlem
DESCRIPTION:Achtung: Die Kundgebung findet am Mahnmal der Gedenkstätte sta
 tt\, nicht an der Bildungsstätte. Einfach bis zur Endhalte der Stadtbahnl
 inie 10 Richtung Ahlem fahren und noch ca. 5 min in Fahrtrichtung weiterge
 hen.\n\n&nbsp\;\n\n
ATTACH;FMTTYPE=image/jpeg:https://rauszeit-termine.org/wp-content/uploads/
 2026/04/image.jpeg
CATEGORIES:Kundgebung
LOCATION:Mahnmal der Gedenkstätte Ahlem\, \, Deutschland
X-APPLE-STRUCTURED-LOCATION;VALUE=URI;X-ADDRESS=\, Deutschland;X-APPLE-RADI
 US=100;X-TITLE=Mahnmal der Gedenkstätte Ahlem:geo:0,0
END:VEVENT
BEGIN:VTIMEZONE
TZID:Europe/Berlin
X-LIC-LOCATION:Europe/Berlin
BEGIN:DAYLIGHT
DTSTART:20260329T030000
TZOFFSETFROM:+0100
TZOFFSETTO:+0200
TZNAME:CEST
END:DAYLIGHT
END:VTIMEZONE
END:VCALENDAR