BEGIN:VCALENDAR
VERSION:2.0
PRODID:-//wp-events-plugin.com//7.2.3.1//EN
TZID:Europe/Berlin
X-WR-TIMEZONE:Europe/Berlin
BEGIN:VEVENT
UID:147210@rauszeit-termine.org
DTSTART;TZID=Europe/Berlin:20250410T163000
DTEND;TZID=Europe/Berlin:20250410T173000
DTSTAMP:20250407T161929Z
URL:https://rauszeit-termine.org/events/gedenkveranstaltung-am-80-jahresta
 g-der-befreiung-des-kz-conti-limmer/
SUMMARY:Gedenkveranstaltung am 80. Jahrestag der Befreiung des KZ Conti-Lim
 mer
DESCRIPTION:»… dicke Tränen rollten über unsere Wangen\, Tränen der F
 reude\, der Erlösung«\nAm 6. April 1945\, kurz vor der Befreiung Hannove
 rs\, wird das KZ Conti-Limmer geräumt und über 900 Frauen werden gezwung
 en\, nach Norden zu marschieren. 78 kranke Frauen bleiben im Lager zurück
 \, wo sie vier Tage später von amerikanischen Truppen befreit werden. Ihn
 en bleiben die Leiden des dreitägigen Fußmarschs und das Inferno des KZ 
 Bergen-Belsen erspart.\nEine von ihnen ist Simonne Rohner\, die in der Ré
 sistance Widerstand gegen die deutsche Besatzung geleistet hatte. Nach ihr
 er Rückkehr nach Paris verfasst sie einen eindrucksvollen Bericht\, in de
 m sie ihre KZ-Haft schildert. Sein Titel: »In der Hölle …«\nAm 80. Ja
 hrestag der Befreiung des Lagers werden Mitglieder des Arbeitskreises »Ei
 n Mahnmal für das Frauen-KZ in Limmer« daraus lesen\, wie die Gefangenen
  die Befreiung in Limmer und die Zeit davor und danach erlebten.\nDie Gede
 nkveranstaltung am Donnerstag\, 10. April 2025\, beginnt um 16:30 Uhr am G
 edenkstein vor der Sackmannstraße 40.\nAuf Einladung der Landeshauptstadt
  Hannover werden Angehörige ehemaliger Gefangener aus Frankreich daran te
 ilnehmen. Oberbürgermeister Belit Onay spricht ein Grußwort. Für den mu
 sikalischen Rahmen sorgt der DGB-Chor.\nAlle Interessierten sind herzlich 
 eingeladen.\n&nbsp\;
CATEGORIES:Aktion,Infoveranstaltung,Kundgebung,Lesung/Buchvorstellung,Vort
 rag
LOCATION:Gedenkstein Ecke Stockhardtweg / Sackmannstraße\, stockhardtweg/S
 ackamnnstr.\, Hannover\, Deutschland
X-APPLE-STRUCTURED-LOCATION;VALUE=URI;X-ADDRESS=stockhardtweg/Sackamnnstr.\
 , Hannover\, Deutschland;X-APPLE-RADIUS=100;X-TITLE=Gedenkstein Ecke Stock
 hardtweg / Sackmannstraße:geo:0,0
END:VEVENT
BEGIN:VTIMEZONE
TZID:Europe/Berlin
X-LIC-LOCATION:Europe/Berlin
BEGIN:DAYLIGHT
DTSTART:20250330T030000
TZOFFSETFROM:+0100
TZOFFSETTO:+0200
TZNAME:CEST
END:DAYLIGHT
END:VTIMEZONE
END:VCALENDAR