BEGIN:VCALENDAR
VERSION:2.0
PRODID:-//wp-events-plugin.com//7.2.3.1//EN
TZID:Europe/Berlin
X-WR-TIMEZONE:Europe/Berlin
BEGIN:VEVENT
UID:150147@rauszeit-termine.org
DTSTART;TZID=Europe/Berlin:20250927T180000
DTEND;TZID=Europe/Berlin:20250927T190000
DTSTAMP:20250909T154132Z
URL:https://rauszeit-termine.org/events/gedenken-erkaempfen-autonom-antifa
 schistisch-mobi-veranstaltung-zur-antifa-demo-am-25-10-2025-um-14-uhr-in-l
 eipzig/
SUMMARY:“Gedenken erkämpfen – Autonom\, Antifaschistisch!” Mobi-Vera
 nstaltung zur Antifa-Demo am 25.10.2025 um 14 Uhr in Leipzig
DESCRIPTION:“Gedenken erkämpfen – Autonom\, Antifaschistisch!”\nMobi
 -Veranstaltung zur Antifa-Demo am 25.10.2025 um 14 Uhr in Leipzig\nAntifa 
 – ein Thema\, das anhaltend die Gemüter erhitzt. Während #dankeantifa 
 ein Dauerbrenner der sozialen Medien bleibt\, wird auf der anderen Seite\,
  mal mehr mal weniger engagiert\, das Verbot der "Antifa" gefordert\, als 
 handele es sich um eine homogene\, in sich geschlossene Gruppe. Dabei ist\
 , selbst bei denen\, die die Bereitschaft haben\, den faschistischen Tende
 nzen unserer Zeit zu trotzen\, gar nicht immer so klar\, was denn das bede
 utet\, gegen den Faschismus zu kämpfen\, also antifaschistisch zu handeln
 .\nDem Antifaschismus werden von seinen Verfechtern gerne viele positive E
 igenschaften zugesprochen\, manchmal gesteigert bis zu der Vorstellung\, A
 ntifa sei revolutionär und würde schon selbst die Bewegung sein\, welche
  die falschen Verhältnisse abschaffen will\, zumindest aber dieser angeh
 ören. Demgegenüber erwies sich der historische Antifaschismus weniger be
 stimmt: Der Kampf gegen den Faschismus hatte immer schon trotz der anhalte
 nd kleinen Zahl von Antifaschist:innen viele Gesichter und er war und ist 
 bisweilen effektiv\, ganz ohne ein revolutionäres Potenzial zu besitzen.A
 ntifa ist die Sache der Menschen\, die sich gegen die gesellschaftliche Ve
 rnichtung der Menschen stellen wollen. Es ist die Sache derer\, die den To
 d hassen und das Leben lieben.\nVor 15 Jahren\, in der Nacht vom 23. auf d
 en 24. Oktober 2010\, wurde der 19-jährige Kamal K. im Park in der Nähe 
 des Leipziger Hauptbahnhofes von den Neonazis Marcus E. und Daniel K. durc
 h mehrere Messerstiche ermordet.Daniel K.\, der während der Tatnacht sowi
 e bei seiner Verhaftung einen Pullover mit dem Schriftzug „Kick off Anti
 fascism“ trug\, hatte Kamal mit einem Pfefferspray die Möglichkeit zur 
 Verteidigung genommen\, als dieser einem Freund zu Hilfe kommen wollte. Ma
 rcus E.\, der erst kurz zuvor aus der Haft entlassen worden war\, nutzte d
 ie Situation aus und stach Kamal nieder. Marcus E. wurde wegen Mordes zu 1
 3 Jahren Haft mit anschließender Sicherheitsverwahrung\, Daniel K. wegen 
 gefährlicher Körperverletzung zu drei Jahren Haftstrafe\, verurteilt. Mi
 ttlerweile befindet sich Daniel K.\, der Sohn eines Leipziger Kriminalbeam
 ten\, wieder auf freiem Fuß.\nIn Leipzig wurden seit 1990 mindestens zehn
  Menschen Todesopfer rechts-motivierter Gewalt – bundesweit gab es seitd
 em über 200 weitere Morde.Wir wollen\, dass Menschen wie Kamal K. nicht v
 ergessen werden\, Menschen\, die nicht ins Weltbild von deutschen Täter*i
 nnen passten und deshalb ihr Leben lassen mussten. Niemand ist vergessen\,
  nichts ist vergeben.\nEin autonomes\, antifaschistisches Gedenken ist abe
 r mehr als nur das Erinnern an vergangene Verbrechen. Es ist eine aktive\,
  kritische Praxis\, die sich gegen die Verharmlosung\, Instrumentalisierun
 g und das Vergessen stellt. Doch um wirklich etwas zu verändern\, reicht 
 es nicht\, nur in Gedanken dabei zu sein oder auf Institutionen zu vertrau
 en. Es ist notwendig\, sich autonom antifaschistisch zu organisieren – j
 enseits von Ritualen und eines allgemeinen Habitus. Nur durch eigenständi
 ges Agieren\, durch direkte Interventionen und solidarisches Eingreifen k
 önnen wir den rechten Strukturen entgegentreten. In der Praxis heißt das
 : Wir müssen aktiv gegen rechte Strukturen vorgehen\, sie sichtbar machen
  und ihnen entgegenstehen.\nDarum wird anlässlich des 15. Todestages von 
 Kamal K. dieses Jahr eine autonome\, antifaschistische Demo am 25.10.2025 
 um 14:00 Uhr in Leipzig stattfinden\, die eingebettet ist in zwei Antifa-W
 ochen.\nKommt zur Mobi-Veranstaltung am 27.09. um 18 Uhr ins Libresso Libe
 rtär\, Infoladen und Bibliothek\, Fröbelstr. 5.Kommt zur Demo am 25.10.2
 025 nach Leipzig.\nNähere Informationen findet ihr unter: www.rassismus-t
 oetet-leipzig.org und www.alea-le.org
ATTACH;FMTTYPE=image/jpeg:https://rauszeit-termine.org/wp-content/uploads/
 2025/09/mobidemo.jpeg.png
CATEGORIES:Sonstiges
LOCATION:Libresso Libertär\, Fröbelstraße 5\, Hannover\, 30451\, Deutsch
 land
X-APPLE-STRUCTURED-LOCATION;VALUE=URI;X-ADDRESS=Fröbelstraße 5\, Hannover
 \, 30451\, Deutschland;X-APPLE-RADIUS=100;X-TITLE=Libresso Libertär:geo:0
 ,0
END:VEVENT
BEGIN:VTIMEZONE
TZID:Europe/Berlin
X-LIC-LOCATION:Europe/Berlin
BEGIN:DAYLIGHT
DTSTART:20250330T030000
TZOFFSETFROM:+0100
TZOFFSETTO:+0200
TZNAME:CEST
END:DAYLIGHT
END:VTIMEZONE
END:VCALENDAR