BEGIN:VCALENDAR
VERSION:2.0
PRODID:-//wp-events-plugin.com//7.2.3.1//EN
TZID:Europe/Berlin
X-WR-TIMEZONE:Europe/Berlin
BEGIN:VEVENT
UID:6714@rauszeit-termine.org
DTSTART:20200410T143000Z
DTEND:20200410T153000Z
DTSTAMP:20200305T111617Z
URL:https://rauszeit-termine.org/events/gedenken-an-die-befreiung-des-kz-c
 onti-limmer-befreit-und-doch-nicht-frei/
SUMMARY:Gedenken an die Befreiung des KZ Conti-Limmer: "Befreit und doch ni
 cht frei ..."
DESCRIPTION:Direkt neben dem Betrieb der Continental AG in Hannover-Limmer 
 befand sich von Juni 1944 bis April 1945 ein Frauen-Außenlager des Konzen
 trationslagers Neuengamme.\n\nViele der Frauen starben kurz vor und nach d
 er Befreiung im KZ Bergen-Belsen\, doch die meisten Gefangenen des KZ Cont
 i-Limmer haben das Lager und das anschließende Inferno von Bergen-Belsen 
 überlebt. Die Spuren des KZ mussten und müssen sie ihr ganzes weiteres L
 eben mit sich tragen.\n\nIm Mittelpunkt der diesjährigen Gedenkveranstalt
 ung des Arbeitskeises "Ein Mahnmal für das Frauen-KZ in Limmer" am 75. Ja
 hrestag der Befreiung des KZ Conti-Limmer stehen Texte\, in denen Überleb
 ende dieses Lagers über ihre Gefühle nach der Befreiung und die Folgen d
 er Haft berichten.
CATEGORIES:Sonstiges
LOCATION:Gedenkstein Ecke Stockhardtweg / Sackmannstraße\, stockhardtweg/S
 ackamnnstr.\, Hannover\, Deutschland
X-APPLE-STRUCTURED-LOCATION;VALUE=URI;X-ADDRESS=stockhardtweg/Sackamnnstr.\
 , Hannover\, Deutschland;X-APPLE-RADIUS=100;X-TITLE=Gedenkstein Ecke Stock
 hardtweg / Sackmannstraße:geo:0,0
END:VEVENT
END:VCALENDAR