BEGIN:VCALENDAR
VERSION:2.0
PRODID:-//wp-events-plugin.com//7.2.3.1//EN
TZID:Europe/Berlin
X-WR-TIMEZONE:Europe/Berlin
BEGIN:VEVENT
UID:14234@rauszeit-termine.org
DTSTART;TZID=Europe/Berlin:20250219T170000
DTEND;TZID=Europe/Berlin:20250219T213000
DTSTAMP:20250129T102140Z
URL:https://rauszeit-termine.org/events/gedenkdemonstration-zum-5-jahresta
 g-des-rassistischen-anschlags-in-hanau/
SUMMARY:Gedenkdemonstration zum 5. Jahrestag des rassistischen Anschlags in
  Hanau
DESCRIPTION:Am 19. Februar 2020 wurden in Hanau 9 Menschen von einem Rechts
 terroristen ermordet. An mehreren Stellen hätten diese Menschenleben gere
 ttet werden können: Der Täter war der Polizei bekannt. Am Tatort wurden 
 die Notausgänge schon vorher durch die Polizei versperrt. Mehrere\, auch 
 frühzeitige\, Notrufe im Verlauf der Tatnacht wurden nicht entgegen genom
 men.\nAm 19. Februar 2025 wollen wir den neun Ermordeten um 17 Uhr auf dem
  Halim-Dener-Platz gedenken. \nFerhat Unvar\nHamza Kurtović\nSaid Nesar 
 Hashemi\nVili Viorel Păun\nMercedes Kirpacz\nKaloyan Velkov\nSedat Gürb
 üz\nGökhan Gültekin\nFatih Saraçoğlu\nWir laden euch ein gemeinsam mi
 t uns auf die Straße zu gehen.\nEs hätte uns treffen können. Die neun h
 ätten unsere Kinder\, Geschwister\, Freund_innen oder Familie sein könne
 n. \nWir sind wütend! \nWir trauern! \nWir vergessen nicht und wir ver
 geben nicht! \nWir fordern Gerechtigkeit\, Aufklärung und Konsequenzen!\
 nKundgebung und Demonstration\n\n19. Februar 2025\n17 Uhr\nStartpunkt und 
 Kundgebung: Halim-Dener-Platz\, Linden\n\nBringt keine National- und/oder 
 Parteiflaggen mit.\nIm Anschluss findet eine Mahnwache im Rahmen der „Un
 iversen“-Reihe in der Cumberlandschen Galerie (Prinzenstraße 9\, Hannov
 er) statt. 
ATTACH;FMTTYPE=image/jpeg:https://rauszeit-termine.org/wp-content/uploads/
 2025/01/hanau_sharepic_rauszeit.jpg
CATEGORIES:Demo,Kundgebung
LOCATION:Halim Dener Platz\, Velvetstraße 4\, Hannover\, Deutschland
X-APPLE-STRUCTURED-LOCATION;VALUE=URI;X-ADDRESS=Velvetstraße 4\, Hannover\
 , Deutschland;X-APPLE-RADIUS=100;X-TITLE=Halim Dener Platz:geo:0,0
END:VEVENT
BEGIN:VTIMEZONE
TZID:Europe/Berlin
X-LIC-LOCATION:Europe/Berlin
BEGIN:STANDARD
DTSTART:20241027T020000
TZOFFSETFROM:+0200
TZOFFSETTO:+0100
TZNAME:CET
END:STANDARD
END:VTIMEZONE
END:VCALENDAR