BEGIN:VCALENDAR
VERSION:2.0
PRODID:-//wp-events-plugin.com//7.2.3.1//EN
TZID:Europe/Berlin
X-WR-TIMEZONE:Europe/Berlin
BEGIN:VEVENT
UID:6877@rauszeit-termine.org
DTSTART:20200930T183000Z
DTEND:20200930T203000Z
DTSTAMP:20200927T183217Z
URL:https://rauszeit-termine.org/events/futur-drei/
SUMMARY:FUTUR DREI
DESCRIPTION:Ein Film von Faraz Shariat\nDer autobiografische Spielfilm des 
 Hildesheimer Regisseurs Faraz Shariat erzählt von Parvis\, dem Sohn zweie
 r Exil-Iraner\, der in einem Wohnprojekt für Flüchtlinge seine Sozialstu
 nden ableisten muss und dort die iranischen Geschwister Banafshe und Amon 
 kennenlernt. Hochgeschnittene Hose\, hautenges T-Shirt\, kurze\, blondiert
 e Haare. Parvis lässt an seinem Geburtstag im Club eine Flasche vom Trese
 n mitgehen und feiert sich tanzend selbst. Der Sohn iranischer Eltern hat 
 sich im Dachgeschoss des Elternhauses in einer ruhigen niedersächsischen 
 Neubausiedlung eingerichtet\, um sich zwischen Sexdates und Raves auszupro
 bieren. Nach einem Ladendiebstahl muss er Sozialstunden in einer Flüchtli
 ngsunterkunft ableisten und verliebt sich dabei in Amon\, der mit seiner S
 chwester Banafshe Arezu aus dem Iran geflüchtet ist. Zu dritt erleben sie
  einen Sommer stürmisch durchfeierter Nächte\, der von der Erkenntnis ge
 prägt ist\, dass sie auf unterschiedliche Weise nicht in Deutschland zu H
 ause sind. In seinem kraftvollen\, mit popkulturellen Referenzen gespickte
 n\, semibiografischen Debüt erzählt Faraz Shariat von der ersten\, inten
 siven Liebe. Mit präzisem Gespür für soziale Zusammenhänge gibt er ein
 en feinfühligen Einblick in die Erfahrungswelten deutscher Migrant*innen 
 zwischen Fremdsein\, Ausgrenzung und Bleiberecht und zeigt\, wie das Ankom
 men auch bei nachfolgenden Generationen noch spürbar ist.\nIm Anschluss z
 eigen wir ein Gespräch mit Nastaran Tajeri\, Hengameh Yaghoobifarah\, Wan
 a Limar und der Regisseur Faraz Shariat über postmigrantische Perspektive
 n auf Diversität und Klasse.\n\nEintritt:\nNormalpreis: 8\,00 €\nErmä
 ßigter Preis: 7\,50 €\nKarten vorbestellen beim Kino am Raschplatz: tel
 efonisch jeden Tag ab 14:00 unter 0511 / 31 78 02 oder online unter https:
 //kinotickets.online/kinoamraschplatz/booking/73704\n\nVeranstalter*innen:
  Kino am Raschplatz\, Rosa-Luxemburg-Stiftung Niedersachsen\, Rosa-Luxembu
 rg-Stiftung\, Verleih Salzgeber und film collective Jünglinge.\nHomepage 
 des Films: https://salzgeber.de/futurdrei\n&nbsp\;
CATEGORIES:Film
LOCATION:Kino am Raschplatz\, Raschplatz 5\, Hannover\, Deutschland
X-APPLE-STRUCTURED-LOCATION;VALUE=URI;X-ADDRESS=Raschplatz 5\, Hannover\, D
 eutschland;X-APPLE-RADIUS=100;X-TITLE=Kino am Raschplatz:geo:0,0
END:VEVENT
END:VCALENDAR