BEGIN:VCALENDAR
VERSION:2.0
PRODID:-//wp-events-plugin.com//7.2.3.1//EN
TZID:Europe/Berlin
X-WR-TIMEZONE:Europe/Berlin
BEGIN:VEVENT
UID:156500@rauszeit-termine.org
DTSTART;TZID=Europe/Berlin:20260418T180000
DTEND;TZID=Europe/Berlin:20260418T183000
DTSTAMP:20260418T153304Z
URL:https://rauszeit-termine.org/events/fuer-lorenz-a/
SUMMARY:Für Lorenz A.
DESCRIPTION:Die Wahrheit heisset demonstrieren und zwar Fühlorins A weil e
 r wurde morgen vor einem Jahr wurde er erschossen\, das ist eine Vorbereit
 ung Demo für morgen\, ihr seid alle. Du kommst.
CATEGORIES:Aktion
LOCATION:Küchengarten.\, Velbertstr\, Mert\, Hsudurj\, Hannover\, Hannover
 \, 30451\, Hannover \, Deutschland
X-APPLE-STRUCTURED-LOCATION;VALUE=URI;X-ADDRESS=Velbertstr\, Mert\, Hsudurj
 \, Hannover\, Hannover\, 30451\, Hannover \, Deutschland;X-APPLE-RADIUS=10
 0;X-TITLE=Küchengarten.:geo:0,0
END:VEVENT
BEGIN:VTIMEZONE
TZID:Europe/Berlin
X-LIC-LOCATION:Europe/Berlin
BEGIN:DAYLIGHT
DTSTART:20260329T030000
TZOFFSETFROM:+0100
TZOFFSETTO:+0200
TZNAME:CEST
END:DAYLIGHT
END:VTIMEZONE
END:VCALENDAR