BEGIN:VCALENDAR
VERSION:2.0
PRODID:-//wp-events-plugin.com//7.2.3.1//EN
TZID:Europe/Berlin
X-WR-TIMEZONE:Europe/Berlin
BEGIN:VEVENT
UID:150429@rauszeit-termine.org
DTSTART;TZID=Europe/Berlin:20251018T110000
DTEND;TZID=Europe/Berlin:20251018T110000
DTSTAMP:20250922T160625Z
URL:https://rauszeit-termine.org/events/fuehrung-durch-die-gedenkstaette-a
 hlem/
SUMMARY:Führung durch die Gedenkstätte Ahlem
DESCRIPTION:Die Führung führt durch die Dauerausstellung sowie über das 
 Außengelände der Gedenkstätte Ahlem. Sie vermittelt einen Überblick ü
 ber die Geschichte des Ortes\, der als jüdische Gartenbauschule weltweite
  Bedeutung erlangte\, nach der Machtübernahme der Nationalsozialisten zur
  Vorbereitung auf die Auswanderung diente und später als Sammelstelle fü
 r die Deportationen aus Hannover und als Gefängnis wie Hinrichtungsstätt
 e der Gestapo missbraucht wurde.
CATEGORIES:Sonstiges
LOCATION:Gedenkstätte Ahlem\, Heisterbergallee 10\, Hannover\, Niedersachs
 en\, 30453\, Deutschland
X-APPLE-STRUCTURED-LOCATION;VALUE=URI;X-ADDRESS=Heisterbergallee 10\, Hanno
 ver\, Niedersachsen\, 30453\, Deutschland;X-APPLE-RADIUS=100;X-TITLE=Geden
 kstätte Ahlem:geo:0,0
END:VEVENT
BEGIN:VTIMEZONE
TZID:Europe/Berlin
X-LIC-LOCATION:Europe/Berlin
BEGIN:DAYLIGHT
DTSTART:20250330T030000
TZOFFSETFROM:+0100
TZOFFSETTO:+0200
TZNAME:CEST
END:DAYLIGHT
END:VTIMEZONE
END:VCALENDAR