BEGIN:VCALENDAR
VERSION:2.0
PRODID:-//wp-events-plugin.com//7.2.3.1//EN
TZID:Europe/Berlin
X-WR-TIMEZONE:Europe/Berlin
BEGIN:VEVENT
UID:6870@rauszeit-termine.org
DTSTART:20200829T180000Z
DTEND:20200829T204500Z
DTSTAMP:20200829T062451Z
URL:https://rauszeit-termine.org/events/filmabend-in-der-nordstadt-open-ai
 r-kino/
SUMMARY:Filmabend in der Nordstadt: Open-Air-Kino
DESCRIPTION:Ein (Kurz)Filmabend rund um die Themen Stadtentwicklung &amp\; 
 Gentrifizierung\, zu dem die beiden Initiativen "Nordstadt solidarisch" un
 d "Bumke selber machen" einladen.\n\nIm Programm sind:\n\n„Ein Lindener 
 zieht nicht nach Hannover“ (23 Minuten\, 1973)\, Doku-Film: Sanierung Li
 nden-Süd\n\nDer Film zeigt die Auseinadersetzungen zu Beginn der Sanierun
 g von Linden-Süd zwischen Baggerzahn und vertrautem zu Hause\, und lasst 
 ganz unterschiedliche Personen zu Wort kommen. Dies ist eine Orginal-Dokum
 entation aus dieser Zeit\, so dass einige Begriffsverwendungen befremdlich
  wirken. Interessant ist der Vergleich: was ist heute anders\, welche Prob
 leme gibt es z.T. in verschärfter Form weiterhin.\n\n„Noch mehr Tod dur
 ch Mord“ (42 Minuten. 1998)\, Eine Kriminalgeschichte rund um Sprengel\,
  Expo und Immobilien.\n\nEiner der legendären Filme der Kofferfabrik-Stud
 ios\, dabei zeigt das Detektiv-Duo Pöbel und Schmirnoff\, dass es in der 
 Nordstadt schon wirklich spleenige Ermittler gab\, als die Tatorte in Weim
 ar und Münster noch nicht mal geplant waren. Die Bildqualität nennen die
  einen sub-optimal\, für die anderen ist es Retro.\n\nClips aus der Nords
 tadt 2019/2020:\n\nHier gibt kurze Rück- und Ausblicke zu den bekannten A
 ktionen rund um den "Goldenen Miethai"\, zu "Wohnraum ist keine Ware"\, zu
  "Monopoly in der Nordstadt" und der Trailer zum Film "Was erlauben Stadt"
 \n\n\nDie Filme starten mit Einbruch der Dunkelheit (ca. 21:00). Davor gib
 t es ab ca. 20:00 Infostände der beiden einladenden Gruppen\, so dass Ihr
  Euch noch die aktuellen Hintergrundinformationen besorgen könnt.\n\nEs g
 ibt ein corona-gerechtes Hygenie Konzept mit ausreichend Abstand &amp\; Au
 fnahme der Kontakdaten\n\nWichtig: es gibt kein Getränkeverkauf und keine
  Bestuhlung also bringt Euch selbst Decken oder Kissen etc mit.\n\nOrt ist
  der Welfengarten: große Wiese hinterm AStA / Welfenschloss.\n\n!!! Kurzf
 ristige Änderungen sind möglich (auch aufgrund der Wetterlage) !!!\n\nSt
 and jetzt: Wettervorhersage ist gut !\n\nFür aktuelle Informationen check
 t die Tage vorher (und gerne immer wieder zu was sonst so in der Nordstadt
  so passiert):\n\nHomepage: https://bumkeselbermachen.home.blog/\n\nFacebo
 ok:Bumke seber  machen  https://de-de.facebook.com/bumkeselbermachen\n\n
 Facebook:"Was erlauben Stadt"  https://www.facebook.com/Haveyouseenmyhaus
 meister/\n\nTwitter von Nordstadt solidarisch: https://twitter.com/167soli
 darisch?lang=de\n\nVeranstaltet von: Mobiles Kino Nordstadt / AStA der Uni
  Hannover und technischer Unterstützung des Kino im Sprengel.\n\n\n&nbsp\
 ;
CATEGORIES:Film
LOCATION:Welfengarten\, Welfengarten 1\, Hannover\, 30167\, Deutschland
X-APPLE-STRUCTURED-LOCATION;VALUE=URI;X-ADDRESS=Welfengarten 1\, Hannover\,
  30167\, Deutschland;X-APPLE-RADIUS=100;X-TITLE=Welfengarten:geo:0,0
END:VEVENT
END:VCALENDAR