BEGIN:VCALENDAR
VERSION:2.0
PRODID:-//wp-events-plugin.com//7.2.3.1//EN
TZID:Europe/Berlin
X-WR-TIMEZONE:Europe/Berlin
BEGIN:VEVENT
UID:7003@rauszeit-termine.org
DTSTART:20201213T100000Z
DTEND:20201213T200000Z
DTSTAMP:20201208T120904Z
URL:https://rauszeit-termine.org/events/film-frauen-bildet-banden/
SUMMARY:Film: Frauen bildet Banden
DESCRIPTION:Die "Rote Zora" war in den 1970er und 1980er Jahren eine milita
 nte Frauengruppe in der BRD\, die sich klandestin organisierte. Entstanden
  ist die feministische Gruppe aus dem Kontext der Revolutionären Zellen. 
 Ihre Aktivitäten richteten sich u.a. gegen die alltägliche Gewalt gegen 
 Frauen\, gegen Gen- und Reproduktionstechnologien\, Bevölkerungspolitik u
 nd internationale Ausbeutungsbedingungen als Ausdruck patriarchaler Herrsc
 haft. Zentral waren die Selbstermächtigung der FrauenLesben und der Bruch
  mit der zugeschriebenen Friedfertigkeit. Erzählungen von verschiedenen Z
 eitzeuginnen\, Interviews mit einer Historikerin und ehemaligen Zoras lass
 en die Geschichte der "Roten Zora" und der damaligen Frauenbewegung wieder
  lebendig werden. Historische Aufnahmen der Frauen- und Studentinnen*beweg
 ung in der BRD bringen Erinnerungen an die damaligen Kämpfe zurück. Frau
 enLesben aus anderen Ländern berichten über ihre Begegnung mit dieser Po
 litik heute. Der Film zeigt\, dass viele Themen der Roten Zora hoch aktuel
 l sind und bietet viel spannenden Diskussionsstoff zum heutigen Umgang mit
  dieser Geschichte.\nFilm vom Kollektiv las otras - FrauenLesbenFilmCollec
 tif Berlin
CATEGORIES:Film
END:VEVENT
END:VCALENDAR