BEGIN:VCALENDAR
VERSION:2.0
PRODID:-//wp-events-plugin.com//7.2.3.1//EN
TZID:Europe/Berlin
X-WR-TIMEZONE:Europe/Berlin
BEGIN:VEVENT
UID:156505@rauszeit-termine.org
DTSTART;TZID=Europe/Berlin:20260513T000000
DTEND;TZID=Europe/Berlin:20260517T000000
DTSTAMP:20260418T190426Z
URL:https://rauszeit-termine.org/events/feministisches-wandern-mit-safer-s
 pace/
SUMMARY:Feministisches Wandern mit Safer Space
DESCRIPTION:Feministisches Wandern mit Safer Space vom 13.05. - 17.05.2026 
 &#x1f332\;&#x1f49c\;&#x1f344\;\n\nWoher stammt der Mythos "Hexe"? Und welc
 he anderen weiblichen Figuren aus der Märchenwelt gibt es und was ist ihr
 e Geschichte?\n\nMenschen jeden Alters erzählten sich schon immer Geschic
 hten - sei es als Nachrichtenaustausch\, als Lehrmittel oder zum schlichte
 n Zeitvertreib.\nWas in Geschichten steckt und wie sich die Botschaften\, 
 die „Moral“ und das Frauenbild im Laufe der Jahrhunderte verändern\, 
 wollen wir während unserer Themenwanderung im Deister erleben.\n\nSafer s
 pace - Veranstaltung für FLINTA*-Personen von 16-27 Jahren (in Ausnahmef
 ällen auch 27+)\n\n50 -100 EUR Solibeitrag (inkl. Unterkunft\, Verpflegun
 g und Workshops)\n\nJETZT ANMELDEN!!!\n\n(FLINTA* = Frauen\, Lesben\, inte
 rgeschlechtliche\,\nnicht-binäre\, trans und agender Personen.\nDas angeh
 ängte * dient als Platzhalter\, um alle nicht-binären Geschlechtsidentit
 äten mit einzubeziehen.)\n\n(Quelle: Naturfreundejugend Hannover)\n\n\n\n
ATTACH;FMTTYPE=image/jpeg:https://rauszeit-termine.org/wp-content/uploads/
 2026/04/wandern0.jpg
CATEGORIES:FLT*I*Q* Only,Safer Space,Sonstiges
END:VEVENT
BEGIN:VTIMEZONE
TZID:Europe/Berlin
X-LIC-LOCATION:Europe/Berlin
BEGIN:DAYLIGHT
DTSTART:20260329T030000
TZOFFSETFROM:+0100
TZOFFSETTO:+0200
TZNAME:CEST
END:DAYLIGHT
END:VTIMEZONE
END:VCALENDAR