BEGIN:VCALENDAR
VERSION:2.0
PRODID:-//wp-events-plugin.com//7.2.3.1//EN
TZID:Europe/Berlin
X-WR-TIMEZONE:Europe/Berlin
BEGIN:VEVENT
UID:6713@rauszeit-termine.org
DTSTART:20200229T110000Z
DTEND:20200229T180000Z
DTSTAMP:20200221T172012Z
URL:https://rauszeit-termine.org/events/feministischer-austausch-und-mobi-
 tag-fuer-den-08-maerz/
SUMMARY:Feministischer Austausch- und Mobi-Tag für den 08. März
DESCRIPTION:Liebe Freund*innen\, liebe Genoss*innen\,\n\nvor dem internatio
 nalen Frauen*kampftag am 08. März wollen wir uns gemeinsam treffen\, empo
 wern und austauschen.\n\nDeshalb laden wir interessierte FLINTA*-Personen 
 am 29.02. von 13 bis 20 Uhr in die Korn ein.\n\nGemeinsam wollen wir uns S
 childer für die Demos\, Sprühvorlagen für Klamotten etc. anfertigen &am
 p\; nutzen (bringt also Beutel\, Shirts etc. mit! Für Grundmaterial zweck
 s Schilder ist gesorgt).\nLasst uns treffen\, um gemeinsam in unsere Stadt
 teile zu ziehen\, diese zu verschönern und auf den 08.03. aufmerksam zu m
 achen!\n\n 	Von 13 bis 16 Uhr wird es Raum geben sich über Themen wie Awa
 reness oder Selbstbehauptung auszutauschen.\n 	Ihr könnt euch mit Graffit
 i und Dosen in einem mackerfreien Rahmen ausprobieren.\n 	Um 16 Uhr wird e
 ine Gruppe vom fem. Rat Aktionen für die 8.M Demo planen und vorstellen. 
 (Dafür werden neben Unterstützer*innen auch noch Vasen gesucht - gerne m
 itbringen!)\n\nWir wollen den Raum gemeinsam nach unseren Vorstellungen ge
 stalten - bringt dafür gerne eigene Materialen\, Kuchen und Snacks sowie 
 Diskussionsthemen mit!\n\nVielleicht wünscht ihr euch auch einfach einen 
 sicheren Raum\, um über bestimmte Themen diskutieren zu können? Vielleic
 ht wollt ihr bei einem guten Buch und einem Stück Kuchen ein paar Stunden
  Kraft tanken für den Streik/Streit.\n\nWenn ihr selber was anbieten woll
 t\, meldet euch bei uns bis zum 25.02. unter feministisch_streiken@riseup.
 net\n\nKommt zahlreich und sagt es euren Freund*innen!\n\nLasst uns das Pa
 triarchat entlarven - Gemeinsam für den Feminismus!&#x270a\;\n\nMehr Info
 s: https://www.facebook.com/FeministischerRatHannover/
CATEGORIES:Aktion,Diskussion,FLT*I*Q* Only,Treffen
LOCATION:UJZ Korn\, Kornstraße 28-30\, Hannover\, Niedersachsen\, 30167\, 
 Hannover\, Deutschland
X-APPLE-STRUCTURED-LOCATION;VALUE=URI;X-ADDRESS=Kornstraße 28-30\, Hannove
 r\, Niedersachsen\, 30167\, Hannover\, Deutschland;X-APPLE-RADIUS=100;X-TI
 TLE=UJZ Korn:geo:0,0
END:VEVENT
END:VCALENDAR