BEGIN:VCALENDAR
VERSION:2.0
PRODID:-//wp-events-plugin.com//7.2.3.1//EN
TZID:Europe/Berlin
X-WR-TIMEZONE:Europe/Berlin
BEGIN:VEVENT
UID:154509@rauszeit-termine.org
DTSTART;TZID=Europe/Berlin:20260410T180000
DTEND;TZID=Europe/Berlin:20260410T180000
DTSTAMP:20260409T105320Z
URL:https://rauszeit-termine.org/events/feministische-soliparty/
SUMMARY:Feministische Soliparty
DESCRIPTION:10.04. - Ab 21:00 - Soliparty für SoliAsyl Hannover - Schreibt
  uns an für den Ort :)\n\n(Anmerkung: afk_hannover@riseup.net oder Instag
 ram)\n\nSolidarisch durch die Nacht! &#x270a\;&#x1f378\;\nWir wollen wiede
 r mit euch feiern: am 10.04.2026 schaffen wir gemeinsam einen Raum des Wid
 erstands gegen die Kälte da draußen! Packt eure Freund*innen ein\, denn 
 wir haben keine Lust auf Vereinzelung – stattdessen setzen wir auf schne
 lle Beats und gute Drinks. Es gibt tolle Auflegerei und wir haben wieder S
 oli Cocktails für euch kreiert: alle Einnahmen gehen ohne Umwege an SoliA
 syl Hannover.&#x2728\;\n\nWer ist SoliAsyl?\nSoliAsyl unterstützt Mensche
 n\, die direkt von Abschiebung bedroht sind\, mit dem Ziel\, sie sicher in
  ein Asylverfahren in Deutschland zu bringen.\nDafür braucht es Ressource
 n für Schlafmöglichkeiten und Schutzräume\, Unterstützung im Alltag in
  dieser extremen Belastungssituation und Finanzierung der Projekte vor Ort
 .\n\nSolidarität ist unsere Waffe – also kommt vorbei\, stoßt mit uns 
 an und unterstützt die wichtige Arbeit gegen das Grenzregime!&#x1f525\;
ATTACH;FMTTYPE=image/jpeg:https://rauszeit-termine.org/wp-content/uploads/
 2026/03/soliparty.jpg
CATEGORIES:Party,UniSex-Hochschultage
LOCATION:Ort auf Anfrage\,  \,  \, Deutschland
X-APPLE-STRUCTURED-LOCATION;VALUE=URI;X-ADDRESS= \,  \, Deutschland;X-APPLE
 -RADIUS=100;X-TITLE=Ort auf Anfrage:geo:0,0
END:VEVENT
BEGIN:VTIMEZONE
TZID:Europe/Berlin
X-LIC-LOCATION:Europe/Berlin
BEGIN:DAYLIGHT
DTSTART:20260329T030000
TZOFFSETFROM:+0100
TZOFFSETTO:+0200
TZNAME:CEST
END:DAYLIGHT
END:VTIMEZONE
END:VCALENDAR