BEGIN:VCALENDAR
VERSION:2.0
PRODID:-//wp-events-plugin.com//7.2.3.1//EN
TZID:Europe/Berlin
X-WR-TIMEZONE:Europe/Berlin
BEGIN:VEVENT
UID:7015@rauszeit-termine.org
DTSTART:20201221T180000Z
DTEND:20201221T200000Z
DTSTAMP:20201217T105432Z
URL:https://rauszeit-termine.org/events/feminismus-transsexualitaet/
SUMMARY:Feminismus &amp\; Transsexualität
DESCRIPTION:***Online Vortrag - Zugang über: https://zoom.us/j/92130867905
  ***\n\nWas bedeutet es Trans zu sein? Was für Hürden müssen überwunde
 n werden die vom Staat in Deutschland auferlegt wurden um das Wunschgeschl
 echt anstreben zu können. Wie lange dauert der Prozess\, aber auch warum 
 es wichtig ist ihn psychologischer Begleitung zu durchlaufen. Mit was für
  Herausforderungen Transpersonen\, wenn sie noch nicht angeglichen sind od
 er keine angleichenden Operationen haben zu kämpfen haben. Des Weiteren d
 arf es laut Gesetz zu keiner Diskriminierung kommen\, aber der Alltag dies
 er Menschen sieht oft anders aus\, und dass es da wichtig ist\, sich dies 
 zu vergegenwärtigen und bewusst zu machen\, dass es immer noch\, auch in 
 Deutschland zu Übergriffen und Sexualisierung kommt. Trotzdem flüchten v
 iele Transpersonen nach Europa aus verschiedenen Ländern wo sie verfolgt 
 werden. Dabei spielen auch die Medien eine Große Rolle\, wo meist transse
 xuelle Frauen als Objekte gesehen werden und nicht als Mensch.\nJana Krisc
 hewski ist Wirtschaftspsychologin und hat selbst den Weg der Transition hi
 nter sich. Sie gestaltet aktiv das Leben in der Queeren-community der Uni 
 Hannover mit und hat auch dort schon ein Referat mit gehalten über den We
 g der Transition\, und plant und veranstaltet dort aktiv das Leben mit.
END:VEVENT
END:VCALENDAR