BEGIN:VCALENDAR
VERSION:2.0
PRODID:-//wp-events-plugin.com//7.2.3.1//EN
TZID:Europe/Berlin
X-WR-TIMEZONE:Europe/Berlin
BEGIN:VEVENT
UID:7002@rauszeit-termine.org
DTSTART:20201210T170000Z
DTEND:20201210T190000Z
DTSTAMP:20201208T120848Z
URL:https://rauszeit-termine.org/events/feminismus-marxismus/
SUMMARY:Feminismus &amp\; Marxismus
DESCRIPTION:Der Vortrag beschäftigt sich mit dem Verhältnis von Feminismu
 s und Marxismus und den Grundlagen des marxistisch-feministischen Denken. 
 Ein marxistischer Feminismus geht davon aus\, dass Geschlechterungleichhei
 t auf der Trennung von Produktion und Reproduktion (unbezahlte Haus- und S
 orgearbeit) im Kapitalismus basiert. Dabei wird am Marxismus kritisiert\, 
 dass dieser Lohnarbeit ins Zentrum setzt und andere Arbeiten\, wie die Her
 stellung und Aufrechterhaltung von menschlicher Arbeitskraft\, außer Acht
  lässt. Feministische Theorie und Praxis vernachlässigt hingegen die Rol
 le des Kapitalismus in der Unterdrückung von Frauen*. Wie beide Theorien 
 zusammengedacht werden\, was aktuell diskutiert wird warum ein marxistisch
 er Feminismus sinnvoll\, ist Thema des Vortrags und der anschließenden Di
 skussion.\nFriederike Beier ist Politologin\, Autorin und Herausgeberin de
 s Bandes „materializing feminism – Positionierungen zu Ökonomie\, Sta
 at und Identität.“ Sie lehrt\, arbeitet und promoviert am Otto-Suhr-Ins
 titut der Freien Universität Berlin. Ihre Dissertation schreibt sie zum T
 hema globale Regierung von Geschlecht und Zeit – Quantifizierung und Ane
 rkennung von sozialer Reproduktion durch Internationale Organisationen.\nh
 ttps://politologinnen.org/friederike-beier/
CATEGORIES:Vortrag
END:VEVENT
END:VCALENDAR