BEGIN:VCALENDAR
VERSION:2.0
PRODID:-//wp-events-plugin.com//7.2.3.1//EN
TZID:Europe/Berlin
X-WR-TIMEZONE:Europe/Berlin
BEGIN:VEVENT
UID:14615@rauszeit-termine.org
DTSTART;TZID=Europe/Berlin:20250308T123000
DTEND;TZID=Europe/Berlin:20250308T123000
DTSTAMP:20250305T123813Z
URL:https://rauszeit-termine.org/events/feminismus-heisst-arbeitskampf-zub
 ringerdemo-von-studis-gegen-rechts/
SUMMARY:Feminismus heißt Arbeitskampf - Zubringerdemo von Studis gegen Rec
 hts
DESCRIPTION:ES REICHT - FEMINISTISCHER KAMPFTAG x ARBEITSKAMPF\n\nAm 08.03.
 2025 startet die Zubringer-Demo um 12:30 Uhr am neuen Rathaus. Von dort au
 s wird zum Königsworther Platz gegangen und dort treffen wir auf weitere 
 Zubringerdemos. Um 14:00 halten wir eine Großdemonstration ab. Kommt mit 
 uns auf die Straße für bessere Arbeitsbedingungen\, Klassenkampf und fü
 r einen intersektionalen Feminismus!
ATTACH;FMTTYPE=image/jpeg:https://rauszeit-termine.org/wp-content/uploads/
 2025/03/8.-maerz-2.webp
CATEGORIES:Demo
LOCATION:Neues Rathaus\, Trammplatz 2\, Hannover\, Deutschland
X-APPLE-STRUCTURED-LOCATION;VALUE=URI;X-ADDRESS=Trammplatz 2\, Hannover\, D
 eutschland;X-APPLE-RADIUS=100;X-TITLE=Neues Rathaus:geo:0,0
END:VEVENT
BEGIN:VTIMEZONE
TZID:Europe/Berlin
X-LIC-LOCATION:Europe/Berlin
BEGIN:STANDARD
DTSTART:20241027T020000
TZOFFSETFROM:+0200
TZOFFSETTO:+0100
TZNAME:CET
END:STANDARD
END:VTIMEZONE
END:VCALENDAR