BEGIN:VCALENDAR
VERSION:2.0
PRODID:-//wp-events-plugin.com//7.2.3.1//EN
TZID:Europe/Berlin
X-WR-TIMEZONE:Europe/Berlin
BEGIN:VEVENT
UID:6867@rauszeit-termine.org
DTSTART:20200731T141500Z
DTEND:20200731T170000Z
DTSTAMP:20200727T192651Z
URL:https://rauszeit-termine.org/events/fahrraddemo-thema-mobilitaetswende
 /
SUMMARY:Fahrraddemo Thema Mobilitätswende
DESCRIPTION:Am 31.07. wollen wir wieder gemeinsam mit euch auf die Straße 
 gehen!\nFahrraddemo\, sammeln um 16:15 am Opernplatz\nVon da aus werden wi
 r zwei Runden auf dem Cityring drehen\, sodass ihr auch die Möglichkeit h
 abt\, an anderen Punkten zur Demo zu stoßen. Auf diese Weise wollen wir v
 ermeiden\, dass sich zu viele Menschen auf einem Haufen sammeln – Corona
  ist leider noch immer nicht überwunden!\nSchon vor fast einem Jahr haben
  wir unsere Forderungen an die Stadt Hannover übergeben. Darin haben wir 
 unter anderem deutlich gemacht\, dass wir uns den Verkehr der Zukunft klim
 aneutral und schadstofffrei vorstellen. Fahrräder und der ÖPNV müssen V
 orrang vor privaten Autos haben\, sodass alle gern und ohne sich in Gefahr
  zu begeben am Verkehr teilnehmen können!\nDeshalb fordern wir nicht nur 
 einen Ausbau von Radwegen in der ganzen Stadt\, damit sich alle gern mit d
 em klimafreundlichsten Verkehrsmittel bewegen\, sondern auch einen attrakt
 iveren und weiter ausgebauten ÖPNV mit guten Arbeitsbedingungen für alle
  Beschäftigten!\nAls ein Zeichen für die dringend notwendige Verkehrswen
 de fordern wir außerdem ein Verbot von privaten Autos in der Innenstadt b
 is spätestens 2022! (Selbstverständlich betrifft das Fahrzeuge wie Krank
 enwagen etc. nicht!). Auf diese Weise soll die Innenstadt zu einem attrakt
 iven Ort werden\, an dem sich alle gerne aufhalten. Ein Ort der frei von A
 utolärm und schädlichen Abgasen ist und mehr Platz für Fahrräder\, Fu
 ßgänger*innen oder einfach zum gemütlichen Sitzen bietet!\nSchnappt euc
 h eurer Fahrrad und fordert mit uns gemeinsam am 31.07. um 16:15 eine klim
 agerechte Verkehrswende für Hannover!\n\nUnd vergesst euren Mund-Nasen-Sc
 hutz nicht (Demoauflage)…\n\n
CATEGORIES:Demo
LOCATION:Opernplatz Hannover\, Opernplatz 1\, Hannover\, Niedersachsen\, 30
 159\, Deutschland
X-APPLE-STRUCTURED-LOCATION;VALUE=URI;X-ADDRESS=Opernplatz 1\, Hannover\, N
 iedersachsen\, 30159\, Deutschland;X-APPLE-RADIUS=100;X-TITLE=Opernplatz H
 annover:geo:0,0
END:VEVENT
END:VCALENDAR