BEGIN:VCALENDAR
VERSION:2.0
PRODID:-//wp-events-plugin.com//7.2.3.1//EN
TZID:Europe/Berlin
X-WR-TIMEZONE:Europe/Berlin
BEGIN:VEVENT
UID:6868@rauszeit-termine.org
DTSTART:20200919T090000Z
DTEND:20200919T120000Z
DTSTAMP:20200909T162840Z
URL:https://rauszeit-termine.org/events/fahrrad-workshop-licht-mit-den-dra
 hteselinnen/
SUMMARY:Fahrrad-Workshop LICHT mit den Drahtesel*innen
DESCRIPTION:Es wird langsam Herbst und wir brauchen wieder Licht an unseren
  Fahrrädern! In diesem Workshop wollen wir uns gemeinsam mit verschiedene
 n Licht-Techniken am Rad auseinandersetzen und unsere Dynamos zum Laufen b
 ringen. Bringt eure Fahrräder mit\, Material und Werkzeug haben wir da.\n
 Bitte meldet euch bei Interesse bis zum Donnerstag\, den 17.09.2020 an: dr
 ahtesel_innen@riseup.net\nCoronabedingt wird der Workshop draußen stattfi
 nden\, bei schlechtem Wetter unter einer großen Regenplane.
CATEGORIES:Workshop
LOCATION:Fahrradwerkstatt Drahtesel*innen\, Fröbelstraße 5\, Hannover\, 3
 0451\, Deutschland
X-APPLE-STRUCTURED-LOCATION;VALUE=URI;X-ADDRESS=Fröbelstraße 5\, Hannover
 \, 30451\, Deutschland;X-APPLE-RADIUS=100;X-TITLE=Fahrradwerkstatt Drahtes
 el*innen:geo:0,0
END:VEVENT
END:VCALENDAR