BEGIN:VCALENDAR
VERSION:2.0
PRODID:-//wp-events-plugin.com//7.2.3.1//EN
TZID:Europe/Berlin
X-WR-TIMEZONE:Europe/Berlin
BEGIN:VEVENT
UID:147221@rauszeit-termine.org
DTSTART;TZID=Europe/Berlin:20250429T183000
DTEND;TZID=Europe/Berlin:20250429T183000
DTSTAMP:20250429T123944Z
URL:https://rauszeit-termine.org/events/faellt-aus-offenes-antifa-cafe-tra
 nspi-malen-zum-1-mai/
SUMMARY:Fällt aus:   Offenes Antifa Café: Transpi-Malen zum 1. Mai
DESCRIPTION:--- Achtung\, die OAC Veranstaltung für diesen Monat entfällt
  leider! Wir wünschen euch einen kämpferischen 1. Mai und sehen uns zum 
 OAC am 27.5. wieder! ---\n\n&nbsp\;\n\n&nbsp\;\n--------------------------
 -----------------------\nDas OAC ist ein offenes Treffen\, das jeden letzt
 en Dienstag im Monat um 18:30 Uhr im UJZ Korn stattfindet. Wir wollen eine
 n Ort bieten an dem junge Antifaschist*innen zusammen kommen können um ge
 meinsam zu lernen\, sich kennenzulernen und zu vernetzen. Falls du Interes
 se hast schau auf Insta bei @oac_hannover oder komm vorbei!\n&nbsp\;\n\n&n
 bsp\;
CATEGORIES:Austausch,Café,Demo,Kennenlernen,Vernetzung
LOCATION:UJZ Korn\, Kornstraße 28-30\, Hannover\, Niedersachsen\, 30167\, 
 Hannover\, Deutschland
X-APPLE-STRUCTURED-LOCATION;VALUE=URI;X-ADDRESS=Kornstraße 28-30\, Hannove
 r\, Niedersachsen\, 30167\, Hannover\, Deutschland;X-APPLE-RADIUS=100;X-TI
 TLE=UJZ Korn:geo:0,0
END:VEVENT
BEGIN:VTIMEZONE
TZID:Europe/Berlin
X-LIC-LOCATION:Europe/Berlin
BEGIN:DAYLIGHT
DTSTART:20250330T030000
TZOFFSETFROM:+0100
TZOFFSETTO:+0200
TZNAME:CEST
END:DAYLIGHT
END:VTIMEZONE
END:VCALENDAR