BEGIN:VCALENDAR
VERSION:2.0
PRODID:-//wp-events-plugin.com//7.2.3.1//EN
TZID:Europe/Berlin
X-WR-TIMEZONE:Europe/Berlin
BEGIN:VEVENT
UID:12456@rauszeit-termine.org
DTSTART;TZID=Europe/Berlin:20240703T171500
DTEND;TZID=Europe/Berlin:20240703T171500
DTSTAMP:20240621T220522Z
URL:https://rauszeit-termine.org/events/exkursion-zum-abschiebeflughafen/
SUMMARY:Exkursion zum Abschiebeflughafen
DESCRIPTION:Vom Flughafen Langenhagen fliegen nicht mir Urlaubsflieger…\n
 In den vergangenen Wochen sind drei Charterflieger\, die Menschen unfreiwi
 llig in ihre Herkunftsländer oder sichere Drittstaaten gebracht haben\, h
 ier gestartet!\n\nMit unserer Exkursion zum Flughafen möchten wir euch mi
 t den Gegebenheiten am Flughafen Hannover-Langenhagen vertraut machen\, ü
 ber unsere Aktionen informieren und ins Gespräch kommen\, wie wir gemeins
 am aktiv werden.\n\nWir treffen uns am 03. Juli um 17:15 an der Reiterstat
 ue vor dem Hbf Hannover (Unter'm Schwanz).\n\n
ATTACH;FMTTYPE=image/jpeg:https://rauszeit-termine.org/wp-content/uploads/
 2024/06/exkursion1.jpg
CATEGORIES:Austausch,Infoveranstaltung,Spaziergang
LOCATION:Hauptbahnhof Hannover\, Ernst-August-Platz 1\, Hannover\, Niedersa
 chsen\, 30159\, Deutschland
X-APPLE-STRUCTURED-LOCATION;VALUE=URI;X-ADDRESS=Ernst-August-Platz 1\, Hann
 over\, Niedersachsen\, 30159\, Deutschland;X-APPLE-RADIUS=100;X-TITLE=Haup
 tbahnhof Hannover:geo:0,0
END:VEVENT
BEGIN:VTIMEZONE
TZID:Europe/Berlin
X-LIC-LOCATION:Europe/Berlin
BEGIN:DAYLIGHT
DTSTART:20240331T030000
TZOFFSETFROM:+0100
TZOFFSETTO:+0200
TZNAME:CEST
END:DAYLIGHT
END:VTIMEZONE
END:VCALENDAR