BEGIN:VCALENDAR
VERSION:2.0
PRODID:-//wp-events-plugin.com//7.2.3.1//EN
TZID:Europe/Berlin
X-WR-TIMEZONE:Europe/Berlin
BEGIN:VEVENT
UID:154448@rauszeit-termine.org
DTSTART;TZID=Europe/Berlin:20260425T210000
DTEND;TZID=Europe/Berlin:20260425T210000
DTSTAMP:20260330T180819Z
URL:https://rauszeit-termine.org/events/eurodance-party/
SUMMARY:Eurodance Party
DESCRIPTION:Dear Queers\, Friends and everyone in the closet &#x1f308\;&#x2
 728\;\nDer Queere Tresen im LKA aka Die Gruppe im Wandschrank lädt feierl
 ich ein:\nDer Queerpunkt braucht Knete\, also shaken wir den booty zu knal
 ligen Eurodance-Sounds &#x1faa9\;\nFragt ihr euch auch oft "what is love?"
  oder möchtet "the rythym of the night" spüren?\nSeid ihr "freed from de
 sire" oder wollt ihr den "Rainbow in the sky" sehen?\nDann seid ihr hier g
 enau richtig!\nNebenbei gibt es Spiel\, Spaß und leckere Cocktails wie Qu
 eena Colada oder Bloody Gary und den all time classic Gender Ale &#x1f379\
 ;&#x1f378\;\nBei uns ist kein Raum für diskriminierendes oder übergriffi
 ges verhalten jeglicher art. wir wollen hier kein sexistischen rassistisch
 en\, antisemitischen\, transfeindlichen Äusserungen oder Handlungen und k
 ein Mackergehabe.\nEs wird eine awareness-struktur geben\, an die ihr euch
  wenden könnt.
ATTACH;FMTTYPE=image/jpeg:https://rauszeit-termine.org/wp-content/uploads/
 2026/02/Eurodance-2026.jpeg
CATEGORIES:Party
LOCATION:LKA\, Fröbelstr. 5\, Hannover\, 30451\, Deutschland
X-APPLE-STRUCTURED-LOCATION;VALUE=URI;X-ADDRESS=Fröbelstr. 5\, Hannover\, 
 30451\, Deutschland;X-APPLE-RADIUS=100;X-TITLE=LKA:geo:0,0
END:VEVENT
BEGIN:VTIMEZONE
TZID:Europe/Berlin
X-LIC-LOCATION:Europe/Berlin
BEGIN:DAYLIGHT
DTSTART:20260329T030000
TZOFFSETFROM:+0100
TZOFFSETTO:+0200
TZNAME:CEST
END:DAYLIGHT
END:VTIMEZONE
END:VCALENDAR