BEGIN:VCALENDAR
VERSION:2.0
PRODID:-//wp-events-plugin.com//7.2.3.1//EN
TZID:Europe/Berlin
X-WR-TIMEZONE:Europe/Berlin
BEGIN:VEVENT
UID:14617@rauszeit-termine.org
DTSTART;TZID=Europe/Berlin:20250308T123000
DTEND;TZID=Europe/Berlin:20250308T123000
DTSTAMP:20250305T123824Z
URL:https://rauszeit-termine.org/events/es-reicht-fuer-das-recht-auf-siche
 rheit-und-sichtbarkeit-zubringerdemo/
SUMMARY:Es reicht! Für das Recht auf Sicherheit und Sichtbarkeit - Zubring
 erdemo
DESCRIPTION:Es reicht! Für das Recht auf Sicherheit und Sichtbarkeit gehen
  wir am 8. März auf die Straße✊\n\nDas Netzwerk QENEM und das FLINTA* 
 Skatekollektiv setzen sich beide für flinta*Räume innerhalb endo-cis-mä
 nnlichen dominierten Kulturen ein. Gemeinsam haben wir für den feministis
 chen Kampftag nun eine Zubringerdemo aus Linden zur 8. März Großdemo org
 anisiert. Wir wollen zeigen\, warum diese Räume für uns wichtig sind. Ab
 er auch\, welcher Weiterentwicklungen es immer noch bedarf. Denn nicht all
 e flinta* Personen fühlen sich in diesen Räumen sicher. \n\nKommt dazu u
 nd lasst uns gemeinsam lernen. \nWir treffen uns am 8.3. um 12:30 Uhr am K
 üchengarten. Von dort aus laufen wir dann zum Königsworther Platz und sc
 hließen uns der Großdemo an \n 
ATTACH;FMTTYPE=image/jpeg:https://rauszeit-termine.org/wp-content/uploads/
 2025/03/zubringer2.jpg
CATEGORIES:Demo
LOCATION:Küchengartenplatz\, Am Küchengarten\, Hannover\, Deutschland
X-APPLE-STRUCTURED-LOCATION;VALUE=URI;X-ADDRESS=Am Küchengarten\, Hannover
 \, Deutschland;X-APPLE-RADIUS=100;X-TITLE=Küchengartenplatz:geo:0,0
END:VEVENT
BEGIN:VTIMEZONE
TZID:Europe/Berlin
X-LIC-LOCATION:Europe/Berlin
BEGIN:STANDARD
DTSTART:20241027T020000
TZOFFSETFROM:+0200
TZOFFSETTO:+0100
TZNAME:CET
END:STANDARD
END:VTIMEZONE
END:VCALENDAR