BEGIN:VCALENDAR
VERSION:2.0
PRODID:-//wp-events-plugin.com//7.2.3.1//EN
TZID:Europe/Berlin
X-WR-TIMEZONE:Europe/Berlin
BEGIN:VEVENT
UID:14683@rauszeit-termine.org
DTSTART;TZID=Europe/Berlin:20250308T100000
DTEND;TZID=Europe/Berlin:20250308T120000
DTSTAMP:20250305T123836Z
URL:https://rauszeit-termine.org/events/es-reicht-fuer-das-recht-auf-siche
 rheit-und-sichtbarkeit-session-am-kuechengarten/
SUMMARY:Es reicht! Für das Recht auf Sicherheit und Sichtbarkeit! - Sessio
 n am Küchengarten
DESCRIPTION:Nur noch ein paar mal schlafen und dann treffen wir uns am Küc
 hengarten zur jährlichen 8.März-Session!✨\n\nVor der Demo* wollen wir 
 mit euch gemeinsam skaten und frühstücken. Bringt euch was zu futtern mi
 t und lasst uns gemeinsam in den Tag starten‍\n\nDank wunderbarer Unters
 tützung können wir auch dieses Jahr wieder viele tolle Obstacles aufbaue
 n! Seid gespannt \n\nAll gender welcome - wir freuen uns auf euch\n\n
ATTACH;FMTTYPE=image/jpeg:https://rauszeit-termine.org/wp-content/uploads/
 2025/03/8m-session.jpg
CATEGORIES:Aktion
LOCATION:Küchengartenplatz\, Am Küchengarten\, Hannover\, Deutschland
X-APPLE-STRUCTURED-LOCATION;VALUE=URI;X-ADDRESS=Am Küchengarten\, Hannover
 \, Deutschland;X-APPLE-RADIUS=100;X-TITLE=Küchengartenplatz:geo:0,0
END:VEVENT
BEGIN:VTIMEZONE
TZID:Europe/Berlin
X-LIC-LOCATION:Europe/Berlin
BEGIN:STANDARD
DTSTART:20241027T020000
TZOFFSETFROM:+0200
TZOFFSETTO:+0100
TZNAME:CET
END:STANDARD
END:VTIMEZONE
END:VCALENDAR