BEGIN:VCALENDAR
VERSION:2.0
PRODID:-//wp-events-plugin.com//7.2.3.1//EN
TZID:Europe/Berlin
X-WR-TIMEZONE:Europe/Berlin
BEGIN:VEVENT
UID:149838@rauszeit-termine.org
DTSTART;TZID=Europe/Berlin:20250904T150000
DTEND;TZID=Europe/Berlin:20250904T180000
DTSTAMP:20250821T115255Z
URL:https://rauszeit-termine.org/events/erzaehlcafe-und-mitmachaktionen-mi
 t-kindern-und-seniorinnen-aus-linden/
SUMMARY:Erzählcafé und Mitmachaktionen mit Kindern und Senior*innen aus L
 inden
DESCRIPTION:Wohnzimmer der gemeinsamen Geschichten – Geschichten der Gene
 rationen\n15:00 Erzählcafé mit Zeitzeug*innen aus Linden Vom Arbeitervie
 rtel zu einem vielfältigen Stadtteil\n\n15:45 Mitmachaktionen für Jung u
 nd Alt! Töpfern\, Schnipsel-Poesie\, Collage\n\nSprache: Deutsch und weit
 ere\n\nBei dieser großen Begegnungsaktion laden wir ganz Linden ein\, sei
 ne Kindheitserinnerungen und Zukunftsvisionen mit uns zu teilen. Gemeinsam
  gestalten wir unser „Wohnzimmer der gemeinsamen Geschichten“ und fül
 len es mit Leben!\n\nWelche Geschichte wollt ihr mit uns teilen und welche
  möchtet ihr in der Zukunft erzählen? In verschiedenen Kreativworkshops 
 erkunden wir unsere (Stadtteil-)Geschichte und wie wir uns eine gemeinsame
  Zukunft vorstellen.\n\nVeranstalter*innen kargah\, AWO Seniorenzentrum Ih
 me-Ufer\, Freizeitheim Linden\, Egon Kuhn Geschichtswerkstatt\, Hochschule
  Hannover Sozialarbeit Studium\n\nMit freundlicher Unterstützung des Inte
 grationsbeirates Linden/Limmer\n\n&nbsp\;\n\nHerzlich willkommen in unsere
 m Wohnzimmer der gemeinsamen Geschichten!\n\nDas Wohnzimmer der gemeinsame
 n Geschichten ist ein Raum\, der durch Hannover wandert. In einem gemütli
 chen Bühnen-Ambiente teilen Zeitzeug*innen mit dem Publikum ihre persönl
 ichen (Hannover-)Geschichten und verbinden sie mit aktuellen Gesellschafts
 themen.
CATEGORIES:Austausch,Kinder,Workshop
LOCATION:AWO Seniorenzentrum Ihmeufer\, Ottenstraße 10\, Hannover\, 30451\
 , Deutschland
X-APPLE-STRUCTURED-LOCATION;VALUE=URI;X-ADDRESS=Ottenstraße 10\, Hannover\
 , 30451\, Deutschland;X-APPLE-RADIUS=100;X-TITLE=AWO Seniorenzentrum Ihmeu
 fer:geo:0,0
END:VEVENT
BEGIN:VTIMEZONE
TZID:Europe/Berlin
X-LIC-LOCATION:Europe/Berlin
BEGIN:DAYLIGHT
DTSTART:20250330T030000
TZOFFSETFROM:+0100
TZOFFSETTO:+0200
TZNAME:CEST
END:DAYLIGHT
END:VTIMEZONE
END:VCALENDAR