BEGIN:VCALENDAR
VERSION:2.0
PRODID:-//wp-events-plugin.com//7.2.3.1//EN
TZID:Europe/Berlin
X-WR-TIMEZONE:Europe/Berlin
BEGIN:VEVENT
UID:150437@rauszeit-termine.org
DTSTART;TZID=Europe/Berlin:20250927T160000
DTEND;TZID=Europe/Berlin:20250927T200000
DTSTAMP:20250924T035823Z
URL:https://rauszeit-termine.org/events/eroeffnungsfeier-der-ykm-gemeinsch
 aften-der-kommunen-mesopotamiens-in-hannover-2/
SUMMARY:Eröffnungsfeier der YKM – Gemeinschaften der Kommunen Mesopotami
 ens in Hannover
DESCRIPTION:Einladung zur Eröffnungsfeier\nWir feiern die Eröffnung der Y
 KM – Gemeinschaften der Kommunen Mesopotamiens in Hannover!\nWann? Samst
 ag\, 27. September 2025Wo? YKM Hannover\, Kornstraße 17\, 30167 Hannover\
 nSeid willkommen!\nLiebe Nachbarinnen und Nachbarn\, liebe Freundinnen und
  Freunde\, liebe Hannoveraner:innen\,\nmit großer Freude und Vorfreude la
 den wir Sie und euch ganz herzlich ein zum Fest der Eröffnung unseres neu
 en Vereins und Begegnungszentrums: der Gemeinschaften der Kommunen Mesopot
 amiens (YKM - Yekîniyên Komûnên Mezopotamya) in Hannover.\nDen Auftakt
  unseres Festes bildet eine bunte Kulturfeier\, die mit Musik\, Tänzen\, 
 bunten Trachten und Freude die lebendige Vielfalt unserer Gemeinschaft in 
 die Stadt trägt.\nProgramm:\n- 16:00 Uhr | Eröffnungsfeier &amp\; Konzer
 tOrt: YKM Hannover\, Kornstraße 17Wir eröffnen offiziell unsere Räumlic
 hkeiten mit Redebeiträgen und einem reichhaltigen Buffet mit kulinarische
 n Köstlichkeiten aus Mesopotamien.\nHöhepunkt: Live-Konzert mit dem beka
 nnten Sänger Hozan Comert!Wir freuen uns unsagbar\, den namhaften Künstl
 er Hozan Comert als unseren musikalischen Gast begrüßen zu dürfen. Sein
  mitreißender Gesang wird unseren Eröffnungstag unvergesslich machen.\nW
 ir\, die YKM Hannover\, glauben an die Kraft einer vielfältigen\, selbsto
 rganisierten Gesellschaft. Unser Zentrum soll ein Ort werden\, an dem Brü
 cken gebaut werden – zwischen Kulturen\, Generationen und Ideen. Ein Ort
 \, an dem die Werte der Demokratie\, der Frauenbefreiung und der radikalen
  Solidarität gelebt werden.\nKommt zur Eröffnungsfeier\, feiert mit uns\
 , tanzt\, singt und lernt uns kennen! Wir freuen uns darauf\, mit Ihnen un
 d euch ins Gespräch zu kommen und gemeinsam unsere Nachbarschaft zu gesta
 lten.\nFür eine gemeinsame\, demokratische und freie Zukunft!\nDas YKM Ha
 nnover Team\nWeitere Informationen:Telefon-Nr: +49 1573 3038134E-Mail: ykm
 -hannover@posteo.deInstagram: @ykm_hannoverWhatsapp: YKM HannoverTelegram:
  @ykmhannoverX: @YkmHannover
ATTACH;FMTTYPE=image/jpeg:https://rauszeit-termine.org/wp-content/uploads/
 2025/09/WhatsApp-Bild-2025-09-23-um-15.05.24_de9583c4.jpg
CATEGORIES:Kennenlernen,Kinder,Konzert
LOCATION:YKM Hannover\, Kornstr. 17\, Hannover\, 30167\, Deutschland
X-APPLE-STRUCTURED-LOCATION;VALUE=URI;X-ADDRESS=Kornstr. 17\, Hannover\, 30
 167\, Deutschland;X-APPLE-RADIUS=100;X-TITLE=YKM Hannover:geo:0,0
END:VEVENT
BEGIN:VTIMEZONE
TZID:Europe/Berlin
X-LIC-LOCATION:Europe/Berlin
BEGIN:DAYLIGHT
DTSTART:20250330T030000
TZOFFSETFROM:+0100
TZOFFSETTO:+0200
TZNAME:CEST
END:DAYLIGHT
END:VTIMEZONE
END:VCALENDAR