BEGIN:VCALENDAR
VERSION:2.0
PRODID:-//wp-events-plugin.com//7.2.3.1//EN
TZID:Europe/Berlin
X-WR-TIMEZONE:Europe/Berlin
BEGIN:VEVENT
UID:150552@rauszeit-termine.org
DTSTART;TZID=Europe/Berlin:20251016T190000
DTEND;TZID=Europe/Berlin:20251016T210000
DTSTAMP:20251014T193830Z
URL:https://rauszeit-termine.org/events/enttaeuschte-hoffnungen-was-koenne
 n-wir-erwarten-von-die-linke-2/
SUMMARY:Enttäuschte Hoffnungen? Was können wir erwarten von "Die Linke"?
DESCRIPTION:»Die Linke« und die Linke\nDie Partei in der sozialen Bewegun
 g – und vor dem Parlament\nInnerhalb der Linken – der sozialen Strömu
 ng – ist die Stimmung nicht gut. Rechtsruck\, Aufrüstung\, Sparpolitik\
 , die mit Repressionen durchgesetzte Staatsräson … das bedrückt. Man s
 ieht sich in der Defensive. Dabei hat doch die Linke – die Partei\; und 
 es ist die Partei\, die für sich in Anspruch nimmt\, für die soziale Str
 ömung namens »die Linke« zu sprechen – einen glänzenden Wahlerfolg e
 ingefahren. Nur wenige Wochen vor der Bundestagswahl galt sie noch als tot
 gesagt! \nWoher also die schlechte Laune? Die These ist\, dass sie nicht 
 auf den Erfolg der AfD\, den gesellschaftlichen und sozialpolitischen Back
 lash unter der Merz-Regierung und auch nicht den wachsenden Militarismus z
 urückzuführen. Das sind definitiv bedrohliche Entwicklungen – aber sie
  sind seit Jahren von Genoss:innen vorhergesagt worden. Genau darauf müss
 ten wir uns doch eingestellt haben! \nDie schlechte Laune rührt vielmehr
  daher\, dass Die Linke\, und auch viele Linke außerhalb dieser Partei\, 
 gerne mitmachen möchten – z.B. unter einer rot-rot-grünen Regierung un
 d überhaupt anerkannt von Merz &amp\;Co. als konstruktive Kräfte innerha
 lb des demokratischen Systems. Das wird ihnen aber verwehrt\, stattdessen 
 werden sie zu immer neuen Anpassungsgesten aufgefordert. Warum dieses Mitm
 achen eine Unterwerfung ist und dem Backlash nichts nachhaltig entgegenzus
 etzen weiß\, wird Felix Klopotek in seinem Vortrag zur Diskussion stellen
 .\nFelix Klopotek lebt und arbeitet in Köln und hat sich in zahlreichen T
 exten mit den Anpassungsleistungen der Linken auseinandergesetzt.
ATTACH;FMTTYPE=image/jpeg:https://rauszeit-termine.org/wp-content/uploads/
 2025/10/plakat-a2-enttaeuschte-hoffnungen-die-linke3-1.png
CATEGORIES:Diskussion,Vortrag
LOCATION:Open Space (OSCO) auf dem Platzprojekt\, Fössestraße 103\, Hanno
 ver\, Niedersachsen\, 30453\, Deutschland
X-APPLE-STRUCTURED-LOCATION;VALUE=URI;X-ADDRESS=Fössestraße 103\, Hannove
 r\, Niedersachsen\, 30453\, Deutschland;X-APPLE-RADIUS=100;X-TITLE=Open Sp
 ace (OSCO) auf dem Platzprojekt:geo:0,0
END:VEVENT
BEGIN:VTIMEZONE
TZID:Europe/Berlin
X-LIC-LOCATION:Europe/Berlin
BEGIN:DAYLIGHT
DTSTART:20250330T030000
TZOFFSETFROM:+0100
TZOFFSETTO:+0200
TZNAME:CEST
END:DAYLIGHT
END:VTIMEZONE
END:VCALENDAR