BEGIN:VCALENDAR
VERSION:2.0
PRODID:-//wp-events-plugin.com//7.2.3.1//EN
TZID:Europe/Berlin
X-WR-TIMEZONE:Europe/Berlin
BEGIN:VEVENT
UID:154512@rauszeit-termine.org
DTSTART;TZID=Europe/Berlin:20260421T190000
DTEND;TZID=Europe/Berlin:20260421T190000
DTSTAMP:20260418T185825Z
URL:https://rauszeit-termine.org/events/einfuehrung-in-feministische-theor
 ien-warum-feministische-perspektiven-und-kaempfe-wichtig-sind/
SUMMARY:Einführung in feministische Theorien - Warum feministische Perspek
 tiven und Kämpfe wichtig sind
DESCRIPTION:Der Vortrag gibt einerseits einen Überblick über die historis
 che und inhaltliche „Landkarte“ feministischer Themen\, Bewegungen und
  Theorieansätze im europäischen und US-amerikanischen Raum und wird ande
 rerseits - anhand einiger Beispiele – aufzeigen\, warum feministische Pe
 rspektiven auch heute noch dringend notwendig sind. Denn Feminismus ist ke
 in festgeschriebenes inhaltliches Programm. Eher ist Feminismus eine polit
 ische Haltung und Perspektive gesellschaftliche Entwicklungen zu verstehen
  und sie zu verändern.
ATTACH;FMTTYPE=image/jpeg:https://rauszeit-termine.org/wp-content/uploads/
 2026/03/afk-1.jpg
CATEGORIES:UniSex-Hochschultage,Vortrag
LOCATION:Elchkeller\, Schneiderberg 50\, Hannover\, Deutschland
X-APPLE-STRUCTURED-LOCATION;VALUE=URI;X-ADDRESS=Schneiderberg 50\, Hannover
 \, Deutschland;X-APPLE-RADIUS=100;X-TITLE=Elchkeller:geo:0,0
END:VEVENT
BEGIN:VTIMEZONE
TZID:Europe/Berlin
X-LIC-LOCATION:Europe/Berlin
BEGIN:DAYLIGHT
DTSTART:20260329T030000
TZOFFSETFROM:+0100
TZOFFSETTO:+0200
TZNAME:CEST
END:DAYLIGHT
END:VTIMEZONE
END:VCALENDAR