BEGIN:VCALENDAR
VERSION:2.0
PRODID:-//wp-events-plugin.com//7.2.3.1//EN
TZID:Europe/Berlin
X-WR-TIMEZONE:Europe/Berlin
BEGIN:VEVENT
UID:6730@rauszeit-termine.org
DTSTART:20200309T160000Z
DTEND:20200309T160000Z
DTSTAMP:20200309T071449Z
URL:https://rauszeit-termine.org/events/eine-fremde-unter-uns-ein-film-zum
 -thema-zwangsheirat/
SUMMARY:Eine Fremde unter uns. Ein Film zum Thema Zwangsheirat.
DESCRIPTION:
CATEGORIES:Film
LOCATION:KiS e.V.\, Hannoversche Straße 5a\, 30926 Seelze\, Deutschland
X-APPLE-STRUCTURED-LOCATION;VALUE=URI;X-ADDRESS=Hannoversche Straße 5a\, 3
 0926 Seelze\, Deutschland;X-APPLE-RADIUS=100;X-TITLE=KiS e.V.:geo:0,0
END:VEVENT
END:VCALENDAR