BEGIN:VCALENDAR
VERSION:2.0
PRODID:-//wp-events-plugin.com//7.2.3.1//EN
TZID:Europe/Berlin
X-WR-TIMEZONE:Europe/Berlin
BEGIN:VEVENT
UID:6721@rauszeit-termine.org
DTSTART:20200327T160000Z
DTEND:20200327T193000Z
DTSTAMP:20200322T102414Z
URL:https://rauszeit-termine.org/events/eine-ehrenwerte-familie-lesung-mit
 -microphone-mafia/
SUMMARY:--Abgesagt!-- Eine ehrenwerte Familie - Lesung mit Microphone Mafia
DESCRIPTION: »Begeistert«\, »beeindruckt«\, »bewegt« sind häufige Re
 aktionen auf Konzerte von ›Bejarano &amp\; Microphone Mafia‹. Sie gäb
 en »Mut\, sich gegen Rassismus und Krieg auszusprechen«. Wenn Rossi Penn
 ino und Kutlu Yurtseven\, eingeladen von Kulturgruppen\, Gewerkschaften od
 er Schulen\, auf Türkisch\, Italienisch und Deutsch rappen\, so blicken s
 ie auf rund 30 Jahre ›Microphone Mafia‹ zurück
CATEGORIES:Performance
LOCATION:Theater im Pavillon\, Lister Meile 4\, Hannover\, Niedersachsen\, 
 30161 \, Deutschland
X-APPLE-STRUCTURED-LOCATION;VALUE=URI;X-ADDRESS=Lister Meile 4\, Hannover\,
  Niedersachsen\, 30161 \, Deutschland;X-APPLE-RADIUS=100;X-TITLE=Theater i
 m Pavillon:geo:0,0
END:VEVENT
END:VCALENDAR