BEGIN:VCALENDAR
VERSION:2.0
PRODID:-//wp-events-plugin.com//7.2.3.1//EN
TZID:Europe/Berlin
X-WR-TIMEZONE:Europe/Berlin
BEGIN:VEVENT
UID:7014@rauszeit-termine.org
DTSTART:20201219T190000Z
DTEND:20201219T210000Z
DTSTAMP:20201216T153442Z
URL:https://rauszeit-termine.org/events/ein-blick-auf-die-feministische-be
 wegung-mujeres-por-la-vida-in-venezuela/
SUMMARY:Ein Blick auf die feministische Bewegung "mujeres por la vida" in V
 enezuela
DESCRIPTION:***Online Vortrag - Zugang über: https://zoom.us/j/97270394039
  ***\n\nDie feministische Organisation ‘Mujeres por la vida‘ setzt sic
 h seit 25 Jahren mit verschiedenen Aufgaben auseinander. Zu diesen Aufgabe
 n gehören die öffentliche Bildungsarbeit sowie die Beratung und Begleitu
 ng von\, von patriarchaler Gewalt betroffenen\, Menschen. In ihren Anfäng
 en waren sie die Gruppe einer Kommune der Stad Lara in Venezuela\, welche 
 sich in den 90er Jahren\, als die neoliberalistische Unterdrückung besond
 ers stark war\, zusammengeschlossen haben. In dieser Zeit fingen sie an\, 
 Unterstützungsnetzwerke aufzubauen\, sowie Frauen\, die von patriarchaler
  Gewalt innerhalb der Gemeinschaft betroffen sind\, zu beraten. Des Weiter
 en setzen sie sich für die Einhaltung der Menschenrechte: Nahrung\, Gesun
 dheit und Bildung für alle ein. Später\, während der Regierung von Hugo
  Chavez\, begleiteten sie die Transformation politischer Prozesse innerhal
 b des Landes. Sie schlugen vor\, Gender-Komitees innerhalb der Kommunalrä
 te zu gründen. Beim Kommunalrat werden Entscheidungen getroffen\, ohne da
 ss der Staat Einfluss auf diese hat. In den letzten Jahren engagieren sich
  ‘Mujeres por la vida‘ besonders bei der Sexualerziehung für Mädchen
  und Frauen\, sowie mit der Verstärkung solidarischer Netzwerke\, um den 
 Erwerb von Medikamenten zu erleichtern und ärztliche Versorgung für Mäd
 chen und Frauen zu ermöglichen. Außerdem beschäftigen sie sich mit der 
 Sichtbarmachung anderer feministischer Kämpfe\, wie beispielsweise der En
 tkriminalisierung der Abtreibung sowie der Gerechtigkeit für Frauen die d
 urch patriarchale Gewalt ermordet wurden. Sie identifizieren sich mit eine
 m Feminismo popular* sowie mit dem Aufbau einer feministischen Kommune als
  Alternativ für einen kapitalistisch\, patriarchalen neoliberalen Staat.\
 nhttps://bloquelatinoamericanoberlin.org/?p=248\nhttps://www.facebook.com/
 movmujeresporlavida/\n
END:VEVENT
END:VCALENDAR