BEGIN:VCALENDAR
VERSION:2.0
PRODID:-//wp-events-plugin.com//7.2.3.1//EN
TZID:Europe/Berlin
X-WR-TIMEZONE:Europe/Berlin
BEGIN:VEVENT
UID:6873@rauszeit-termine.org
DTSTART:20200919T153000Z
DTEND:20200919T173000Z
DTSTAMP:20210506T115925Z
URL:https://rauszeit-termine.org/events/ecovillage-hannover-seiteneinstieg
 streffen-9/
SUMMARY:ecovillage hannover - Seiteneinstiegstreffen #9
DESCRIPTION:Für "Seiteneinsteiger*innen"\, die sich näher über das ecov
 illage-Quartier Kronsberg informieren wollen\, gibt es diesmal an einem W
 ochenende\, nämlich am Samstag den 19.09.2020 um 17:30 Uhr einen Informat
 ionsabend.\n\nHier gibt es kompakt Informationen wie alles anfing\, welche
  Dinge wir aktuell bearbeiten und wohin die Reise gehen soll. Vor allem is
 t hier auch Raum für Fragen!\n\nWegen den Corona-Platzbeschränkungen ist
  eine Anmeldung über ecovillage-hannover.de erforderlich. Ihr bekommt d
 ann eine Anmeldebestätigung mit weiteren Informationen.\n\nDieses Treffen
  richtet sich explizit an Menschen\, die bisher nicht im Prozess dabei war
 en.\n\nKurzinfo:\nIm Stadtteil Kronsberg wird ab 2021 ein suffizientes (ge
 nügsames) Wohnquartier für 800 bis 900 Menschen entstehen. Die Vision: T
 iny Living mit viel gemeinschaftlichem Leben mit einem möglichst geringen
  ökologischen Fußabdruck (u.a. klimaneutral) mit einem hohen sozialen St
 andard\, gleichzeitig nachhaltig und mit bezahlbaren Mieten. ecovillage ko
 mbiniert die Vorteile einer Großstadt (gute Infrastruktur ohne Notwendigk
 eit eines Autos) mit denen eines Dorfes (viel Grün und nachbarschaftliche
 s Zusammenleben). Suffizient bedeutet in diesem Zusammenhang: Weg von imme
 r größer werdenden Wohnungen hin zu kleinen individuellen Wohnflächen (
 pro Person 25 bis 30 m²) mit viel Gemeinschaftsflächen (Co-Working\, Gä
 stehaus\, usw.). Weg von immer mehr Eigentum hin zum Ausleihen und Tausch 
 von Dingen („Bibliothek der Dinge“\, usw.). Umgesetzt wird das Projekt
  in einem in Europa so noch nicht da gewesenen umfangreichen Beteiligungs-
  und Planungsprozess der zukünftigen Bewohner*innen - das Stadtviertel wi
 rd von ihnen von Grund auf mitentwickelt. Die Genossenschaft hat heute\, 1
 0 Monate nach Gründung\, schon 380 Mitglieder!\n\nMehr informationen auf 
 unserer Webseite: Link
CATEGORIES:Diskussion,Infoveranstaltung,Sonstiges,Treffen,Vortrag
LOCATION:Ort wird in der Anmeldebestätigung genannt\, Straße\, Hannover\,
  Deutschland
X-APPLE-STRUCTURED-LOCATION;VALUE=URI;X-ADDRESS=Straße\, Hannover\, Deutsc
 hland;X-APPLE-RADIUS=100;X-TITLE=Ort wird in der Anmeldebestätigung genan
 nt:geo:0,0
END:VEVENT
END:VCALENDAR