BEGIN:VCALENDAR
VERSION:2.0
PRODID:-//wp-events-plugin.com//7.2.3.1//EN
TZID:Europe/Berlin
X-WR-TIMEZONE:Europe/Berlin
BEGIN:VEVENT
UID:6879@rauszeit-termine.org
DTSTART:20201010T133000Z
DTEND:20201010T153000Z
DTSTAMP:20210506T115938Z
URL:https://rauszeit-termine.org/events/ecovillage-hannover-seiteneinstieg
 streffen-10/
SUMMARY:ecovillage hannover - Seiteneinstiegstreffen #10
DESCRIPTION:Für "Seiteneinsteiger*innen"\, die sich näher über das ecov
 illage-Quartier Kronsberg informieren wollen\, gibt es diesmal an einem Wo
 chenende\, nämlich am Samstag den 10.10.2020 um 15:30 Uhr einen Informati
 onsabend.\n\nHier gibt es kompakt Informationen wie alles anfing\, welche 
 Dinge wir aktuell bearbeiten und wohin die Reise gehen soll. Vor allem ist
  hier auch Raum für Fragen!\n\nWegen den Corona-Platzbeschränkungen ist 
 eine Anmeldung über ecovillage-hannover.de erforderlich. Ihr bekommt da
 nn eine Anmeldebestätigung mit weiteren Informationen.\n\nDieses Treffen 
 richtet sich explizit an Menschen\, die bisher nicht im Prozess dabei ware
 n.\n\nKurzinfo:\nIm Stadtteil Kronsberg wird ab 2021 ein suffizientes (gen
 ügsames) Wohnquartier für 800 bis 900 Menschen entstehen. Die Vision: Ti
 ny Living mit viel gemeinschaftlichem Leben mit einem möglichst geringen 
 ökologischen Fußabdruck (u.a. klimaneutral) mit einem hohen sozialen Sta
 ndard\, gleichzeitig nachhaltig und mit bezahlbaren Mieten. ecovillage kom
 biniert die Vorteile einer Großstadt (gute Infrastruktur ohne Notwendigke
 it eines Autos) mit denen eines Dorfes (viel Grün und nachbarschaftliches
  Zusammenleben). Suffizient bedeutet in diesem Zusammenhang: Weg von immer
  größer werdenden Wohnungen hin zu kleinen individuellen Wohnflächen (p
 ro Person 25 bis 30 m²) mit viel Gemeinschaftsflächen (Co-Working\, Gäs
 tehaus\, usw.). Weg von immer mehr Eigentum hin zum Ausleihen und Tausch v
 on Dingen („Bibliothek der Dinge“\, usw.). Umgesetzt wird das Projekt 
 in einem in Europa so noch nicht da gewesenen umfangreichen Beteiligungs- 
 und Planungsprozess der zukünftigen Bewohner*innen - das Stadtviertel wir
 d von ihnen von Grund auf mitentwickelt. Die Genossenschaft hat heute\, 10
  Monate nach Gründung\, schon 380 Mitglieder!\n\nMehr informationen auf u
 nserer Webseite: Link
CATEGORIES:Infoveranstaltung,Sonstiges,Vortrag
LOCATION:Ort wird in der Anmeldebestätigung genannt\, Straße\, Hannover\,
  Deutschland
X-APPLE-STRUCTURED-LOCATION;VALUE=URI;X-ADDRESS=Straße\, Hannover\, Deutsc
 hland;X-APPLE-RADIUS=100;X-TITLE=Ort wird in der Anmeldebestätigung genan
 nt:geo:0,0
END:VEVENT
END:VCALENDAR