BEGIN:VCALENDAR
VERSION:2.0
PRODID:-//wp-events-plugin.com//7.2.3.1//EN
TZID:Europe/Berlin
X-WR-TIMEZONE:Europe/Berlin
BEGIN:VEVENT
UID:7134@rauszeit-termine.org
DTSTART;TZID=Europe/Berlin:20210308T140000
DTEND;TZID=Europe/Berlin:20210308T160000
DTSTAMP:20210218T195311Z
URL:https://rauszeit-termine.org/events/drahteselinnen-flinta-fahrradwerks
 tatt/
SUMMARY:Drahtesel*innen FLINTA* Fahrradwerkstatt
DESCRIPTION:Fahrradwerkstatt am Feministischen Kampftag\nKaffee\, Tee\, Sna
 cks und Rad fit machen\n\nUm 16:00 Uhr dann zum Ni Una Menos Platz (Goseri
 ede) und bei der Klimabewegungs-Fahrrad-Demo dabei sein. Denn es gibt kein
 e Klimagerechtigkeit ohne Feminismus! Also schnappt euch euer Fahrrad und 
 kommt mit uns auf die Straße gegen ausbeuterische Verhältnisse. Gemeinsa
 m sind wir stark.
CATEGORIES:FLT*I*Q* Only,Sonstiges
LOCATION:Hof der Fröbelstraße\, Fröbelstr. 5\, Hannover\, Deutschland
X-APPLE-STRUCTURED-LOCATION;VALUE=URI;X-ADDRESS=Fröbelstr. 5\, Hannover\, 
 Deutschland;X-APPLE-RADIUS=100;X-TITLE=Hof der Fröbelstraße:geo:0,0
END:VEVENT
BEGIN:VTIMEZONE
TZID:Europe/Berlin
X-LIC-LOCATION:Europe/Berlin
BEGIN:STANDARD
DTSTART:20201025T020000
TZOFFSETFROM:+0200
TZOFFSETTO:+0100
TZNAME:CET
END:STANDARD
END:VTIMEZONE
END:VCALENDAR