BEGIN:VCALENDAR
VERSION:2.0
PRODID:-//wp-events-plugin.com//7.2.3.1//EN
TZID:Europe/Berlin
X-WR-TIMEZONE:Europe/Berlin
BEGIN:VEVENT
UID:12463@rauszeit-termine.org
DTSTART;TZID=Europe/Berlin:20240710T190000
DTEND;TZID=Europe/Berlin:20240710T210000
DTSTAMP:20240703T171912Z
URL:https://rauszeit-termine.org/events/diskussionsveranstaltung-mit-den-c
 ombatants-for-peace/
SUMMARY:Diskussionsveranstaltung mit den \\"Combatants for Peace\\"
DESCRIPTION:Wege zum Frieden für Israel und Palästina\nDer in den letzten
  Monaten eskalierte Krieg in Israel und Palästina hinterlässt brutale Ze
 rstörung und hat bereits jetzt zehntausende Menschen das Leben gekostet. 
 Diese Gewalt macht viele von uns sprachlos und ist mit starken Gefühlen d
 er Ohnmacht\, Traurigkeit\, Frustration\, Wut und Hilflosigkeit verbunden.
 Auch hier in Deutschland wirkt sich diese Eskalation auf gesellschaftliche
  Bereiche aus: Proteste und Positionierungen werden undifferenziert massiv
  kriminalisiert und vom deutschen Staat angegriffen. Gleichzeitig gibt es 
 einen hohen Anstieg von antisemitischen Übergriffen\, die ein gesellschaf
 tliches Gegenwirken benötigen.\nDerweil profitieren deutsche Unternehmen 
 wie Rheinmetall von den steigenden Rüstungsexporten in die Region. Dabei 
 werden Einsatzgebiete nicht hinterfragt und vergangenen Regeln\, keine Rü
 stungsexporte in Kriegsgebiete zuzulassen\, sind bedeutungslos.\nGerade in
  dieser Zeit ist es wichtig\, den Menschen zuzuhören\, die noch an eine a
 ndere Realität glauben und darauf hinarbeiten: Eine Realität\, die Fried
 en\, Sicherheit\, gleiche Rechte und nachhaltige Entwicklung für alle Men
 schen in Israel und Palästina beinhaltet.\nWir laden Sie ein\, Osama Illi
 wat und Rotem Levin zu treffen und ihre Geschichten zu hören. Als Frieden
 saktivisten aus Israel und Palästina glauben sie daran\, dass ein anderer
  – ein gewaltfreier - Weg möglich ist. Sie sind Mitglieder der israelis
 ch-palästinensischen Organisation „Combatants for Peace“ und sind auf
  ihrem Weg der Veränderung zu Freunden und Partnern geworden: Sie teilen 
 mit uns ihre persönlichen Geschichten\, berichten vom nicht enden wollend
 en Kreislauf der Gewalt in Nahost und davon\, was ihnen in diesen schweren
  Zeiten Hoffnung macht und Kraft gibt.\nDie Veranstaltung findet in Englis
 ch mit Übersetzung statt.\n10.07.2024 - Beginn 19:00 UhrBuntes Haus\, Han
 noversche Straße 30f
ATTACH;FMTTYPE=image/jpeg:https://rauszeit-termine.org/wp-content/uploads/
 2024/07/2024.07.10Combatantsforpeace_web.jpg
CATEGORIES:Infoveranstaltung
END:VEVENT
BEGIN:VTIMEZONE
TZID:Europe/Berlin
X-LIC-LOCATION:Europe/Berlin
BEGIN:DAYLIGHT
DTSTART:20240331T030000
TZOFFSETFROM:+0100
TZOFFSETTO:+0200
TZNAME:CEST
END:DAYLIGHT
END:VTIMEZONE
END:VCALENDAR