BEGIN:VCALENDAR
VERSION:2.0
PRODID:-//wp-events-plugin.com//7.2.3.1//EN
TZID:Europe/Berlin
X-WR-TIMEZONE:Europe/Berlin
BEGIN:VEVENT
UID:7004@rauszeit-termine.org
DTSTART:20201215T170000Z
DTEND:20201215T190000Z
DTSTAMP:20201208T120920Z
URL:https://rauszeit-termine.org/events/digitalisierung-und-geschlecht-neu
 e-arbeit-alte-muster/
SUMMARY:Digitalisierung und Geschlecht: Neue Arbeit - alte Muster?
DESCRIPTION:Der Arbeitsmarkt in Deutschland ist geschlechtsspezifisch struk
 turiert. Die Unterschiede zwischen der Bezahlung typischer «Frauenberufe
 » und typischer «Männerberufe» sind besonders groß. Der Gender Pay Ga
 p ist in Deutschland einer der größten in ganz Europa. Berufe unterschei
 den sich auch in Arbeitsbedingungen\, Aufstiegschancen und der sozialen Ab
 sicherung. An der Verteilung der Berufe auf Männer und Frauen und der dam
 it einhergehenden sozialen Ungleichheit hat sich in letzten 50 Jahren weni
 g geändert. Auch Digitalisierung und Automatisierung haben daran nicht ge
 rüttelt. Dennoch bieten die Veränderungen in Arbeitswelt und Gesellschaf
 t auch die Möglichkeit\, Macht- und Geschlechterverhältnisse neu zu verh
 andeln. Wie hat sich die Arbeitswelt in den letzten Jahren verändert und 
 welche Chancen oder Risiken ergeben sich daraus für Frauen*?\nJulia Hoffm
 ann ist Politologin und Medienwissenschaftlerin aus Berlin. Sie arbeitet a
 ls freie Autorin\, unter anderem für die Jungle World. Ihre Arbeitsschwer
 punkte sind: Arbeitsmarktpolitik\, Gewerkschaften\, Digitalisierung und Ge
 schlecht (Arbeit 4.0\, Plattformökonomie\, Flexibilisierung\, Arbeitszeit
 management) sowie Social Media und Geschlecht.\nhttps://politologinnen.org
 /julia-hoffmann-politologin.../
CATEGORIES:Vortrag
END:VEVENT
END:VCALENDAR