BEGIN:VCALENDAR
VERSION:2.0
PRODID:-//wp-events-plugin.com//7.2.3.1//EN
TZID:Europe/Berlin
X-WR-TIMEZONE:Europe/Berlin
BEGIN:VEVENT
UID:7132@rauszeit-termine.org
DTSTART;VALUE=DATE:20210220
DTEND;VALUE=DATE:20210221
DTSTAMP:20210214T114523Z
URL:https://rauszeit-termine.org/events/die-zeit-ist-reif-freiheit-fuer-ab
 dullah-oecalan/
SUMMARY:Die Zeit ist Reif- Freiheit für Abdullah Öcalan
DESCRIPTION:*Die Zeit ist reif - Freiheit für Öcalan*\n\n*Kundgebung\, on
 line-Veranstaltung und Demo*\n\nAm 15. Februar 1999 wurde Abdullah Öcalan
  auf seiner Reise nach Südafrika in einer Operation mehrere westlicher Ge
 heimdienste entführt und auf die Gefängnisinsel İmralı verschleppt. Zu
 nächst wurde er in einem Schauprozess zum Tode verurteilt. Der Europäisc
 he Gerichtshof für Menschenrechte urteilte\, dass das Verfahren unfair wa
 r und rechtsstaatlichen Standards widersprach. Trotz der Isolationshaft se
 tzte Öcalan seine Suche nach einer friedlichen Lösung des Kurdistan-Konf
 likts fort: er schrieb mehrere Bücher\, gestaltete den zuvor initiierten 
 Paradigmenwechsel der kurdischen Freiheitsbewegung maßgeblich\, vermittel
 te mehrere Waffenstillstände und war zentrale Figur von Gesprächen zwisc
 hen der Freiheitsbewegung und den wechselnden Regierungen der Republik Tü
 rkei.\n\nFür uns ist klar\, dass er eine Schlüsselfigur für einen nachh
 altigen und gerechten Friedensprozess sein wird. Darum gehen wir für sein
 e Freiheit auf die Straße.\n\n15.02.2021\, 10.00 Uhr\, Kundgebung\, Am Kl
 agesmarkt/Türkisches Konsulat\n\n15.02.2021\, 20.00 Uhr\, online-Veransta
 ltung\n\n20.02.2021\, 14.00 Uhr\, Demonstration\, Hauptbahnhof Hannover\n\
 nLink zu mehr Infos zu der Veranstaltung:\nhttps://navdemhannover.blackblo
 gs.org/2021/02/13/die-zeit-ist-reif-freiheit-fuer-oecalan-kundgebung-onlin
 e-veranstaltung-und-demo/
LOCATION:Hannover Hauptbahnhof\, Ernst-August-Platz\, Hannover\, 30159\, De
 utschland
X-APPLE-STRUCTURED-LOCATION;VALUE=URI;X-ADDRESS=Ernst-August-Platz\, Hannov
 er\, 30159\, Deutschland;X-APPLE-RADIUS=100;X-TITLE=Hannover Hauptbahnhof:
 geo:0,0
END:VEVENT
END:VCALENDAR