BEGIN:VCALENDAR
VERSION:2.0
PRODID:-//wp-events-plugin.com//7.2.3.1//EN
TZID:Europe/Berlin
X-WR-TIMEZONE:Europe/Berlin
BEGIN:VEVENT
UID:150727@rauszeit-termine.org
DTSTART;TZID=Europe/Berlin:20300205T170000
DTEND;TZID=Europe/Berlin:20300205T200000
DTSTAMP:20251119T182815Z
URL:https://rauszeit-termine.org/events/die-wehrpflicht-kehrt-zurueck-wir-
 auch-2030-02-05/
SUMMARY:Die Wehrpflicht kehrt zurück\, wir auch!
DESCRIPTION:Die Deutsche Friedensgesellschaft - Vereinigte Kriegsdienstgegn
 erInnen\nbietet ab sofort wieder eine Beratung zu allen Fragen von Musteru
 ng\,\nMilitärdienst\, Kriegsdienstverweigerung und Ersatzdiensten. Zusät
 zlich\nsind wir Anlaufstelle für gewaltfreie Aktionen gegen Krieg und Mil
 itär.\n\nJeden ersten Dienstag im Monat 17-20 Uhr\n\nFreizeitheim Vahrenw
 ald - Raum 7\n\nKontakt: hannover.dfg-vk.de
ATTACH;FMTTYPE=image/jpeg:https://rauszeit-termine.org/wp-content/uploads/
 2025/11/DeutscheFriedensgesellschaftVerKdg_Logo_2009.jpg
CATEGORIES:Beratung
LOCATION:Freizeitheim Vahrenwald\, Vahrenwalder Str. 92\, 30165 Hannover\, 
 Deutschland
X-APPLE-STRUCTURED-LOCATION;VALUE=URI;X-ADDRESS=Vahrenwalder Str. 92\, 3016
 5 Hannover\, Deutschland;X-APPLE-RADIUS=100;X-TITLE=Freizeitheim Vahrenwal
 d:geo:0,0
END:VEVENT
BEGIN:VTIMEZONE
TZID:Europe/Berlin
X-LIC-LOCATION:Europe/Berlin
BEGIN:STANDARD
DTSTART:20291028T020000
TZOFFSETFROM:+0200
TZOFFSETTO:+0100
TZNAME:CET
END:STANDARD
END:VTIMEZONE
END:VCALENDAR