BEGIN:VCALENDAR
VERSION:2.0
PRODID:-//wp-events-plugin.com//7.2.3.1//EN
TZID:Europe/Berlin
X-WR-TIMEZONE:Europe/Berlin
BEGIN:VEVENT
UID:14593@rauszeit-termine.org
DTSTART;TZID=Europe/Berlin:20250320T201500
DTEND;TZID=Europe/Berlin:20250320T230000
DTSTAMP:20250224T125928Z
URL:https://rauszeit-termine.org/events/die-stille-um-christine-m/
SUMMARY:Die Stille um Christine M.
DESCRIPTION:Drei Frauen bereuen nichts. Sie haben einen Boutiquenbesitzer u
 mgebracht und erwarten ihren Prozess. Meilenstein des feministischen Kinos
 .\n\nMarleen Gorris\, Niederlande\, 1982\, 92Min\n\nDrei Frauen aus unters
 chiedlichen Milieus ermorden den Besitzer einer Boutique. Sie begehen dies
 e Tat gemeinsam\, in stillem Einvernehmen\, obwohl sie sich vorher noch ni
 e gesehen haben. Da sie ihre Schuld nicht leugnen\, kommen sie ins Gefäng
 nis\, und eine Psychiaterin wird auf sie angesetzt\, um sie für geisteskr
 ank zu erklären. Doch als die Psychiaterin die drei Frauen näher kennenl
 ernt\, wird ihr klar\, dass keine der drei verrückt ist. Je mehr sie sich
  mit diesem Fall beschäftigt\, desto größere Schwierigkeiten bekommt si
 e selbst - privat und beruflich.\n\nEine pointiert-ironische Geschichte\, 
 die einfühlsam und beherzt Gesten alltäglicher Unterdrückung mit Witz u
 nd Spannung nachspürt.\n\nEine Veranstaltung der Roten Hilfe e.V. Hannove
 r
CATEGORIES:Film
LOCATION:Kino im Sprengel\, Klaus-Müller-Kilian Weg 1\, Hannover\, 30167\,
  Deutschland
X-APPLE-STRUCTURED-LOCATION;VALUE=URI;X-ADDRESS=Klaus-Müller-Kilian Weg 1\
 , Hannover\, 30167\, Deutschland;X-APPLE-RADIUS=100;X-TITLE=Kino im Spreng
 el:geo:0,0
END:VEVENT
BEGIN:VTIMEZONE
TZID:Europe/Berlin
X-LIC-LOCATION:Europe/Berlin
BEGIN:STANDARD
DTSTART:20241027T020000
TZOFFSETFROM:+0200
TZOFFSETTO:+0100
TZNAME:CET
END:STANDARD
END:VTIMEZONE
END:VCALENDAR