BEGIN:VCALENDAR
VERSION:2.0
PRODID:-//wp-events-plugin.com//7.2.3.1//EN
TZID:Europe/Berlin
X-WR-TIMEZONE:Europe/Berlin
BEGIN:VEVENT
UID:13882@rauszeit-termine.org
DTSTART;TZID=Europe/Berlin:20250111T180000
DTEND;TZID=Europe/Berlin:20250111T180000
DTSTAMP:20241217T124932Z
URL:https://rauszeit-termine.org/events/die-proletarische-faust/
SUMMARY:Die Proletarische Faust
DESCRIPTION:Michi Dehmlow war hier in Hannover bei den Falken viele Jahre s
 ehr aktiv\, sei es als Gruppenleiter\, im Vorstand oder als hauptamtlicher
  Bildungsreferent. Nun ist sein Buch fertig\, und Michi plant in den Grupp
 enräumen im Allerweg eine erste Lesung seines Buches.\n\nAnmeldungen übe
 r\ninfo@falken-hannover.de
ATTACH;FMTTYPE=image/jpeg:https://rauszeit-termine.org/wp-content/uploads/
 2024/12/Die-Proletarische-Faust.jpg
CATEGORIES:Lesung/Buchvorstellung
LOCATION:SJD - Die Falken Hannover\, Allerweg 7d (Innenhof/ 1. Etage)\, Han
 nover\, Deutschland\, 30449\, Niedersachsen\, Deutschland
X-APPLE-STRUCTURED-LOCATION;VALUE=URI;X-ADDRESS=Allerweg 7d (Innenhof/ 1. E
 tage)\, Hannover\, Deutschland\, 30449\, Niedersachsen\, Deutschland;X-APP
 LE-RADIUS=100;X-TITLE=SJD - Die Falken Hannover:geo:0,0
END:VEVENT
BEGIN:VTIMEZONE
TZID:Europe/Berlin
X-LIC-LOCATION:Europe/Berlin
BEGIN:STANDARD
DTSTART:20241027T020000
TZOFFSETFROM:+0200
TZOFFSETTO:+0100
TZNAME:CET
END:STANDARD
END:VTIMEZONE
END:VCALENDAR