BEGIN:VCALENDAR
VERSION:2.0
PRODID:-//wp-events-plugin.com//7.2.3.1//EN
TZID:Europe/Berlin
X-WR-TIMEZONE:Europe/Berlin
BEGIN:VEVENT
UID:149814@rauszeit-termine.org
DTSTART;TZID=Europe/Berlin:20250926T180000
DTEND;TZID=Europe/Berlin:20250926T180000
DTSTAMP:20250811T080801Z
URL:https://rauszeit-termine.org/events/die-extreme-rechte-zwischen-klimal
 eugnung-und-klimanationalismus-vortrag-von-yannick-passeick/
SUMMARY:Die extreme Rechte zwischen Klimaleugnung und Klimanationalismus - 
 Vortrag von Yannick Passeick
DESCRIPTION:Extrem rechte Akteur*innen bestreiten entweder den men-\nschenv
 erursachten Klimawandel oder sie sehen die Ursache\nfür die Klimakatastro
 phe im Bevölkerungswachstum des\nglobalen Südens. Je nach Adressat*innen
  bedienen sich\ndiese Akteur*innen unterschiedlicher Strategien. Hierzu\nz
 ählt die Diffamierung von Aktivist*innen ebenso wie die\nantisemitische V
 erschwörungserzählung einer im Verbor-\ngenen operierenden (jüdischen) 
 Elite. Gleichzeitig bemühen\nsich die antidemokratischen Kräfte mit Argu
 menten des\nNatur- und Artenschutzes um Windkraftgegner*innen. Die-\nser V
 ortrag stellt (extrem) rechte Akteur*innen und deren\nPositionen im Themen
 feld Klima- und Energiepolitik dar.\nDer Vortrag eröffnet die Ausstellung
  "Glänzende Aus-\nsichten"\, die aus 99 Karikaturen zu Konsum\, Klimawand
 el\nund Gerechtigkeit besteht. Auf witzige\, verblüffende oder\nerschreck
 ende Weise regen sie zum Nachdenken über\nmenschliche Abgründe und weltp
 olitische Zusammen-\nhänge an.\n\nDie Fachstelle Radikalisierungsprävent
 ion und Engagement\nim Naturschutz – kurz FARN – wurde im Oktober 2017
  von\nden NaturFreunden Deutschlands und der Naturfreun-\ndejugend Deutsch
 lands gegründet. Sie untersucht die\nhistorischen und aktuellen Verknüpf
 ungen des deutschen\nNatur- und Umweltschutzes mit extrem rechten und völ
 ki-\nschen Strömungen. Gleichzeitig erarbeitet sie menschen-\nbejahende u
 nd demokratiefördernde Gegenentwürfe.\n\nDer Vortrag ist kostenlos. Um A
 nmeldung unter beate.gonitzki@bildungsverein.de wird gebeten.\nOrt der Ver
 anstaltung: Bildungsverein\, Stadtstr. 17 (Südstadt)
CATEGORIES:Vortrag
LOCATION:Bildungsverein\, Stadtstraße 17\, Hannover\, Deutschland
X-APPLE-STRUCTURED-LOCATION;VALUE=URI;X-ADDRESS=Stadtstraße 17\, Hannover\
 , Deutschland;X-APPLE-RADIUS=100;X-TITLE=Bildungsverein:geo:0,0
END:VEVENT
BEGIN:VTIMEZONE
TZID:Europe/Berlin
X-LIC-LOCATION:Europe/Berlin
BEGIN:DAYLIGHT
DTSTART:20250330T030000
TZOFFSETFROM:+0100
TZOFFSETTO:+0200
TZNAME:CEST
END:DAYLIGHT
END:VTIMEZONE
END:VCALENDAR