BEGIN:VCALENDAR
VERSION:2.0
PRODID:-//wp-events-plugin.com//7.2.3.1//EN
TZID:Europe/Berlin
X-WR-TIMEZONE:Europe/Berlin
BEGIN:VEVENT
UID:150424@rauszeit-termine.org
DTSTART;TZID=Europe/Berlin:20251013T153000
DTEND;TZID=Europe/Berlin:20251013T170000
DTSTAMP:20250929T112812Z
URL:https://rauszeit-termine.org/events/die-errungenschaften-der-frauenrev
 olution/
SUMMARY:Die Errungenschaften der Frauenrevolution
DESCRIPTION:Frauenbefreiung\, Ökologie und Basisdemokratie - seit 2012 wir
 d im Norden- und Osten Syriens eine demokratische Selbstverwaltung aufgeba
 ut und stetig weiterentwickelt. Vor allem die Frauen gehen in all dem vora
 n und gründen Kooperativen\, um eine alternative Wirtschaft aufzubauen\, 
 verteidigen die Gesellschaft vor islamistischen und faschistischen Angriff
 en oder entwickeln ein neues Bildungssystem\, in dem alle teilhaben könne
 n- kurz gesagt: Die Abschaffung des Patriarchats steht hier auf der Tageso
 rdnung. In der Ausstellung werden die wichtigen Errungenschaften dieser Fr
 auenrevolution auf großformatigen Bildern und aussagekräftigen Texten ge
 zeigt und geben uns Einblicke in 13 verschiedene Lebensbereiche. \nGemein
 sam gehen wir durch die Ausstellung und erzählen über das Leben in der F
 rauenrevolution\, die als gelebte Utopie für uns Inspiration und Hoffnung
  für eine Welt ohne Krieg\, Patriarchat und Kapitalismus sein kann. 
CATEGORIES:Ausstellung,Vortrag
LOCATION:Ada-und-Theodor-Lessing-Volkshochschule\, Burgstraße 14\, Hannove
 r\, Deutschland
X-APPLE-STRUCTURED-LOCATION;VALUE=URI;X-ADDRESS=Burgstraße 14\, Hannover\,
  Deutschland;X-APPLE-RADIUS=100;X-TITLE=Ada-und-Theodor-Lessing-Volkshochs
 chule:geo:0,0
END:VEVENT
BEGIN:VTIMEZONE
TZID:Europe/Berlin
X-LIC-LOCATION:Europe/Berlin
BEGIN:DAYLIGHT
DTSTART:20250330T030000
TZOFFSETFROM:+0100
TZOFFSETTO:+0200
TZNAME:CEST
END:DAYLIGHT
END:VTIMEZONE
END:VCALENDAR