BEGIN:VCALENDAR
VERSION:2.0
PRODID:-//wp-events-plugin.com//7.2.3.1//EN
TZID:Europe/Berlin
X-WR-TIMEZONE:Europe/Berlin
BEGIN:VEVENT
UID:14235@rauszeit-termine.org
DTSTART;TZID=Europe/Berlin:20250130T180000
DTEND;TZID=Europe/Berlin:20250130T180000
DTSTAMP:20250129T175028Z
URL:https://rauszeit-termine.org/events/die-brandmauer-muss-bleiben/
SUMMARY:Die Brandmauer muss bleiben!
DESCRIPTION:Aus dem Aufruf der GEW:\nIn dieser Woche will die CDU mit den S
 timmen der AfD Anträge durch den Bundestag bringen. Das ist ein unfassbar
 er Tabubruch und absolut inakzeptabel. Bis jetzt gab es – zumindest auf 
 Bundesebene – eine Vereinbarung der demokratischen Fraktionen\, nur Gese
 tze zur Abstimmung zu stellen\, bei denen eine demokratische Mehrheit gege
 ben ist. \nWir müssen die Brandmauer verteidigen\, bevor es zu spät ist!
 \nJetzt gilt es\, laut zu sein\, auf die Straße zu gehen und die Union un
 d FDP dazu zu bewegen\, von ihren Plänen\, Abstand zu nehmen. \n\nWir sag
 en: \nKein Pakt mit Faschisten!\nLasst uns in Hannover zeigen\, dass wir d
 as nicht hinnehmen!\nLasst uns zeigen\, dass wir in Hannover solidarisch z
 usammenstehen!\nLasst uns für ein buntes und tolerantes Hannover kämpfen
 \, in dem die Zusammenarbeit mit Faschisten nicht geduldet wird!\nWir\, ei
 n Bündnis bestehend aus Grünen\, SPD\, GEW und SV Arminia Hannover rufen
  zur Demonstration auf und laden alle ein\, sich uns anzuschließen. \n\nK
 ommt vorbei:\nDonnerstag\, 30. Januar 2025\, 18.00 Uhr Opernplatz Hannover
ATTACH;FMTTYPE=image/jpeg:https://rauszeit-termine.org/wp-content/uploads/
 2025/01/brandmauer.jpg
CATEGORIES:Kundgebung
LOCATION:Opernplatz Hannover\, Opernplatz\, Hannover\, Deutschland
X-APPLE-STRUCTURED-LOCATION;VALUE=URI;X-ADDRESS=Opernplatz\, Hannover\, Deu
 tschland;X-APPLE-RADIUS=100;X-TITLE=Opernplatz Hannover:geo:0,0
END:VEVENT
BEGIN:VTIMEZONE
TZID:Europe/Berlin
X-LIC-LOCATION:Europe/Berlin
BEGIN:STANDARD
DTSTART:20241027T020000
TZOFFSETFROM:+0200
TZOFFSETTO:+0100
TZNAME:CET
END:STANDARD
END:VTIMEZONE
END:VCALENDAR