BEGIN:VCALENDAR
VERSION:2.0
PRODID:-//wp-events-plugin.com//7.2.3.1//EN
TZID:Europe/Berlin
X-WR-TIMEZONE:Europe/Berlin
BEGIN:VEVENT
UID:14573@rauszeit-termine.org
DTSTART;TZID=Europe/Berlin:20250215T110000
DTEND;TZID=Europe/Berlin:20250215T110000
DTSTAMP:20250214T224646Z
URL:https://rauszeit-termine.org/events/der-afd-den-wahlkampf-vermiesen/
SUMMARY:Der AfD den Wahlkampf vermiesen
DESCRIPTION:+++ Ort steht fest: Platz der Weltausstellung +++\n\n Demo gege
 n AfD-Wahlkampfstand in Hannover \n\nBrandmauer sein - Kein Raum für die 
 AfD und rassistische Hetze!\n\nAm Samstag\, 15.02. ab 11 Uhr stehen wir de
 m AfD-Wahlkampfstand entgegen! Lasst uns laut und klar zeigen\, dass recht
 sradikale Hetze keinen Platz in unserer Stadt hat und die AfD keine normal
 e Partei ist! \nKommt zahlreich\, bringt eure Freund*innen mit und lasst u
 ns laut sein ✊\nZwischendurch könnt ihr euch beim tanzen beim CSD aufw
 ärmen \n\n Samstag\, 15.02. - 11:00 Uhr\, Platz der Weltausstellung
ATTACH;FMTTYPE=image/jpeg:https://rauszeit-termine.org/wp-content/uploads/
 2025/02/afd-wahlkampfstand.jpg
CATEGORIES:Aktion
LOCATION:Platz der Weltausstellung\, Platz der Weltausstellung\, Hannover\,
  Deutschland
X-APPLE-STRUCTURED-LOCATION;VALUE=URI;X-ADDRESS=Platz der Weltausstellung\,
  Hannover\, Deutschland;X-APPLE-RADIUS=100;X-TITLE=Platz der Weltausstellu
 ng:geo:0,0
END:VEVENT
BEGIN:VTIMEZONE
TZID:Europe/Berlin
X-LIC-LOCATION:Europe/Berlin
BEGIN:STANDARD
DTSTART:20241027T020000
TZOFFSETFROM:+0200
TZOFFSETTO:+0100
TZNAME:CET
END:STANDARD
END:VTIMEZONE
END:VCALENDAR