BEGIN:VCALENDAR
VERSION:2.0
PRODID:-//wp-events-plugin.com//7.2.3.1//EN
TZID:Europe/Berlin
X-WR-TIMEZONE:Europe/Berlin
BEGIN:VEVENT
UID:6743@rauszeit-termine.org
DTSTART:20200418T110000Z
DTEND:20200418T140000Z
DTSTAMP:20200312T131137Z
URL:https://rauszeit-termine.org/events/den-weg-ins-ungewisse-wagen-worksh
 op-zu-kritischen-maennlichkeiten-queer-topia/
SUMMARY:Den Weg ins Ungewisse wagen – Workshop zu kritischen Männlichkei
 ten / Queer Topia
DESCRIPTION:In diesem Workshop wollen wir uns mit dem Thema Männlichkeiten
  beschäftigen. Was ist eigentlich Männlich*keit? Wie kann ich kritisch m
 it (meinen) Männlich*keiten umgehen? Wie und wann nutze/performe ich sie?
  Wo schränken mich (meine) Männlich*keiten ein?\n\nDiese und andere Frag
 en werden im Workshop mithilfe von Theatermethoden und Methoden aus der ma
 chkritischen Bildungsarbeit bearbeitet. Der Workshop findet in deutscher L
 autsprache (mit Flüsterübersetzung auf Englisch) statt und ist offen fü
 r alle Geschlechter. Der Raum ist rauchfrei und ist wie die Toilette mit d
 em Rollstuhl zu erreichen.\n\nVeranstaltet von queer_topia* (queertopia.bl
 ogsport.de\, fb: queer_topia*).\n\nDauer: 3 Stunden\n\nhttps://www.faceboo
 k.com/events/248366986193272/\n\n&nbsp\;\n\nDie Veranstaltung ist Teil der
  "Feminismus geht jede*n etwas an!" Reihe vom AStA der Leibniz Uni. Mehr I
 nfos zu der Reihe findet ihr auf http://www.asta-hannover.de/ oder der ASt
 A Facebook-Seite https://www.facebook.com/astahannover/
CATEGORIES:Workshop
LOCATION:Andersraum\, Asternstr. 2\, Hannover\, Deutschland
X-APPLE-STRUCTURED-LOCATION;VALUE=URI;X-ADDRESS=Asternstr. 2\, Hannover\, D
 eutschland;X-APPLE-RADIUS=100;X-TITLE=Andersraum:geo:0,0
END:VEVENT
END:VCALENDAR