BEGIN:VCALENDAR
VERSION:2.0
PRODID:-//wp-events-plugin.com//7.2.3.1//EN
TZID:Europe/Berlin
X-WR-TIMEZONE:Europe/Berlin
BEGIN:VEVENT
UID:7129@rauszeit-termine.org
DTSTART;VALUE=DATE:20210213
DTEND;VALUE=DATE:20210214
DTSTAMP:20210209T135820Z
URL:https://rauszeit-termine.org/events/demonstration-in-hannover-die-zeit
 -ist-reif-freiheit-fuer-abdullah-oecalan/
SUMMARY:DEMONSTRATION IN HANNOVER. Die Zeit ist Reif.  Freiheit für Abdull
 ah Öcalan
DESCRIPTION:Die Zeit ist Reif- Freiheit für Abdullah Öcalan\n\nEin tägig
 er Langer Marsch in Hannover\n\nWann: 13.02.2021\n\nUhrzeit: 10:00\n\nVers
 ammlungsort: Leine-Center- Laatzen\n\nMotto:\n\nMit Öcalan liegt auch die
  demokratische Moderne in fesseln.\n\nDie Zeit ist Reif- Freiheit für Abd
 ullah Öcalan\n\n&nbsp\;\n\nNach 22 Jahren Isolation auf İmralı: Die Zei
 t ist reif – Freiheit für Öcalan!\n\nAls am 15. Februar 1999 der PKK-V
 orsitzende Abdullah Öcalan durch eine Zusammenarbeit internationaler Gehe
 imdienste in die Türkei verschleppt wurde\, dachten viele\, der Freiheits
 kampf der Kurd*innen und die Arbeiterpartei Kurdistans seien am Ende. Doch
  Öcalan gelang es\, trotz dieses herben Rückschlags aus seiner Zelle her
 aus die kurdische Freiheitsbewegung nach vorne zu tragen. Er nutzte seine 
 Eingaben vor dem Europäischen Gerichtshof für Menschenrechte\, um ein ne
 ues basisdemokratisches\, geschlechterbefreites und ökologisches Paradigm
 a zu entwerfen. Seine Ideen stehen nicht nur für die Hoffnung auf einen d
 emokratischen Nahen Osten\, sie werden gegenwärtig auch im Nordosten Syri
 ens und weiteren Gebieten umgesetzt.\n\nDoch Abdullah Öcalan ist mehr als
  einer der wichtigsten politischen Gesellschaftstheoretiker unserer Zeit. 
 Er ist auch weiterhin der zentrale politische Repräsentant der kurdischen
  Bevölkerung in Nordkurdistan und somit der wohl wichtigste Dialogpartner
  für mögliche Verhandlungen mit dem türkischen Staat über die Lösung 
 der kurdischen Frage. Sein Einfluss auf die PKK ist ebenso ungebrochen wie
  sein Rückhalt in der kurdischen Bevölkerung. Seine aktuelle Isolation a
 uf der Gefängnisinsel İmralı ist Ausdruck der gegenwärtigen kurdenfein
 dlichen Kriegspolitik des türkischen Staates.\n\nWir erwarten euch am 13.
 02.2021 in Hannover zum Langen Marsch.\n\nFreiheit für Abdullah Öcalan\n
 \nBiji Serok Apo\n\n&nbsp\;\n\nWeitere Infos:\n\nhttps://www.freeocalan.or
 g/books/#/deutsch\n\nhttp://civaka-azad.org/wp-content/uploads/2016/02/DEU
 TSCH-2016-Februar.pdf\n\n&nbsp\;\n\nWenn Ihr als Gruppe/ Organisation unse
 ren Aufruf offenen Brief unterstützt meldet euch gerne bei uns Frauenrat 
 Ronahî und Nav-dem Hannover.\n\nEmail: nav-dem_hannover@posteo.de\n\nhttp
 s://navdemhannover.blackblogs.org/2021/01/24/offener-brief-an-un-generalse
 kretaer-antonio-guterres/\n\n&nbsp\;\n\n„Sehr geehrter António Guterres
 \,\n\naus Sorge um unsere Verwandten und Freund*innen in Kurdistan und dem
  Mittleren Osten\, aus Angst vor weiteren Kriegen\, die unendliches mensch
 liches Leid hervorbringen\, obwohl sie verhindert werden könnten\, aus Wu
 t über die herrschenden Verhältnisse und im Wissen darüber\, dass eine 
 andere Welt durch eine andere Politik möglich wäre\, wenden wir uns an S
 ie.\n\n…“\n\nAls NAV-DEM Hannover und Frauenrat Ronahî haben wir eine
 n offenen Brief an den Generalsekretär der Vereinten Nationen\, António 
 Guterres\, geschrieben. Darin drücken wir unsere Sorge um die weiteren En
 twicklungen in Kurdistan\, der Türkei und dem Mittleren Osten sowie um da
 s Leben und die Gesundheit Abdullah Öcalans aus. Wir fordern António Gut
 erres auf\, seine Möglichkeiten zu nutzen\, um sich für eine Freiheit Ab
 dullah Öcalans und einen gerechten Frieden in Kurdistan einzusetzen.\n\nH
 ier der Link zum offenen Brief in voller Länge als pdf.\n\nMit dem Brief 
 schließen wir uns einer internationalen Kampagne der Kurdish Human Rights
  Action Group und des Gewerkschaftsverbands COSATU aus Südafrika an. Sie 
 hatten Einzelpersonen und Organisationen dazu aufgerufen\, dem UN-Generals
 ekretär Briefe und Emails zu schreiben\, um auf die sich zuspitzenden Ver
 hältnisse im Mittleren Osten aufmerksam zu machen und die Freiheit Abdull
 ah Öcalans zu fordern.\n\nHier ein Link zu einem Artikel der Nachrichtena
 gentur Firat News Agency über die Kampagne von KHRAG und COSATU.\n\nSchli
 eßt euch ebenfalls der Kampagne an und schreibt an António Guterres:\nMr
  António Guterres\nSecretary-General United Nations\nUN Headquarters\, S-
 3800\nNew York\, NY 10017\nUSA\n&nbsp\;\n\nPer Email: sgcentral@un.org\n(g
 erne eine Kopie an: sakhrag@gmail.com)\n\n&nbsp\;
LOCATION:Leine-Center Laatzen\, Albert-Schweizer-Straße 10\, Hannover\, Ni
 edersachsen \, 30880\, Laatzen\, Deutschland
X-APPLE-STRUCTURED-LOCATION;VALUE=URI;X-ADDRESS=Albert-Schweizer-Straße 10
 \, Hannover\, Niedersachsen \, 30880\, Laatzen\, Deutschland;X-APPLE-RADIU
 S=100;X-TITLE=Leine-Center Laatzen:geo:0,0
END:VEVENT
END:VCALENDAR