BEGIN:VCALENDAR
VERSION:2.0
PRODID:-//wp-events-plugin.com//7.2.3.1//EN
TZID:Europe/Berlin
X-WR-TIMEZONE:Europe/Berlin
BEGIN:VEVENT
UID:14183@rauszeit-termine.org
DTSTART;TZID=Europe/Berlin:20250118T143000
DTEND;TZID=Europe/Berlin:20250118T143000
DTSTAMP:20250116T211905Z
URL:https://rauszeit-termine.org/events/demokratie-verteidigen-afd-stoppen
 -gemeinsame-anreise-nach-bad-harzburg/
SUMMARY:Demokratie verteidigen\, AfD stoppen - Gemeinsame Anreise nach Bad 
 Harzburg
DESCRIPTION:
ATTACH;FMTTYPE=image/jpeg:https://rauszeit-termine.org/wp-content/uploads/
 2025/01/anreise-harzburg.jpg
CATEGORIES:Treffen
LOCATION:Hauptbahnhof Hannover\, Ernst-August-Platz 1\, Hannover\, Niedersa
 chsen\, 30159\, Deutschland
X-APPLE-STRUCTURED-LOCATION;VALUE=URI;X-ADDRESS=Ernst-August-Platz 1\, Hann
 over\, Niedersachsen\, 30159\, Deutschland;X-APPLE-RADIUS=100;X-TITLE=Haup
 tbahnhof Hannover:geo:0,0
END:VEVENT
BEGIN:VTIMEZONE
TZID:Europe/Berlin
X-LIC-LOCATION:Europe/Berlin
BEGIN:STANDARD
DTSTART:20241027T020000
TZOFFSETFROM:+0200
TZOFFSETTO:+0100
TZNAME:CET
END:STANDARD
END:VTIMEZONE
END:VCALENDAR